BEGIN:VCALENDAR
VERSION:2.0
PRODID:-// - ECPv6.15.20//NONSGML v1.0//EN
CALSCALE:GREGORIAN
METHOD:PUBLISH
X-ORIGINAL-URL:https://troop46230.com
X-WR-CALDESC:Events for 
REFRESH-INTERVAL;VALUE=DURATION:PT1H
X-Robots-Tag:noindex
X-PUBLISHED-TTL:PT1H
BEGIN:VTIMEZONE
TZID:America/Los_Angeles
BEGIN:DAYLIGHT
TZOFFSETFROM:-0800
TZOFFSETTO:-0700
TZNAME:PDT
DTSTART:20240310T100000
END:DAYLIGHT
BEGIN:STANDARD
TZOFFSETFROM:-0700
TZOFFSETTO:-0800
TZNAME:PST
DTSTART:20241103T090000
END:STANDARD
BEGIN:DAYLIGHT
TZOFFSETFROM:-0800
TZOFFSETTO:-0700
TZNAME:PDT
DTSTART:20250309T100000
END:DAYLIGHT
BEGIN:STANDARD
TZOFFSETFROM:-0700
TZOFFSETTO:-0800
TZNAME:PST
DTSTART:20251102T090000
END:STANDARD
BEGIN:DAYLIGHT
TZOFFSETFROM:-0800
TZOFFSETTO:-0700
TZNAME:PDT
DTSTART:20260308T100000
END:DAYLIGHT
BEGIN:STANDARD
TZOFFSETFROM:-0700
TZOFFSETTO:-0800
TZNAME:PST
DTSTART:20261101T090000
END:STANDARD
END:VTIMEZONE
BEGIN:VEVENT
DTSTART;TZID=America/Los_Angeles:20250608T084500
DTEND;TZID=America/Los_Angeles:20250608T133000
DTSTAMP:20260424T011104
CREATED:20250509T232210Z
LAST-MODIFIED:20250521T162617Z
UID:1185-1749372300-1749389400@troop46230.com
SUMMARY:Fearless Cute Cats Service Project Trip to Heartwood Haven Sanctuary
DESCRIPTION:8:45am Meet at Jaime’s house\, get into carpools\, hit the road around 9:00\n10:30am Tour at Heartwood Haven\, drop off supplies and feed the pigs!\n11:30am Eat Sack Lunch (please pack your own lunch\, no nuts please!) at Heartwood Haven\nnoon-ish Depart Heartwood Haven\n1:30 ish Cars Meet Back at Jaime’s house\n\nPlease RSVP below and let me know if you can drive.  \nFearless Cute Cats Service Project Trip to Heartwood Haven Sanctuary
URL:https://troop46230.com/event/fearless-cute-cats-service-project-trip-to-heartwood-haven-sanctuary/
END:VEVENT
END:VCALENDAR