BEGIN:VCALENDAR
VERSION:2.0
PRODID:-// - ECPv6.15.20//NONSGML v1.0//EN
CALSCALE:GREGORIAN
METHOD:PUBLISH
X-ORIGINAL-URL:https://troop46230.com
X-WR-CALDESC:Events for 
REFRESH-INTERVAL;VALUE=DURATION:PT1H
X-Robots-Tag:noindex
X-PUBLISHED-TTL:PT1H
BEGIN:VTIMEZONE
TZID:America/Los_Angeles
BEGIN:DAYLIGHT
TZOFFSETFROM:-0800
TZOFFSETTO:-0700
TZNAME:PDT
DTSTART:20240310T100000
END:DAYLIGHT
BEGIN:STANDARD
TZOFFSETFROM:-0700
TZOFFSETTO:-0800
TZNAME:PST
DTSTART:20241103T090000
END:STANDARD
BEGIN:DAYLIGHT
TZOFFSETFROM:-0800
TZOFFSETTO:-0700
TZNAME:PDT
DTSTART:20250309T100000
END:DAYLIGHT
BEGIN:STANDARD
TZOFFSETFROM:-0700
TZOFFSETTO:-0800
TZNAME:PST
DTSTART:20251102T090000
END:STANDARD
BEGIN:DAYLIGHT
TZOFFSETFROM:-0800
TZOFFSETTO:-0700
TZNAME:PDT
DTSTART:20260308T100000
END:DAYLIGHT
BEGIN:STANDARD
TZOFFSETFROM:-0700
TZOFFSETTO:-0800
TZNAME:PST
DTSTART:20261101T090000
END:STANDARD
END:VTIMEZONE
BEGIN:VEVENT
DTSTART;TZID=America/Los_Angeles:20250629T110000
DTEND;TZID=America/Los_Angeles:20250629T160000
DTSTAMP:20260423T233149
CREATED:20250602T234724Z
LAST-MODIFIED:20250602T234741Z
UID:2018-1751194800-1751212800@troop46230.com
SUMMARY:Walking with GSWW in Seattle Pride Parade
DESCRIPTION:Walk with Troop 46230 and GSWW in the Seattle Pride Parade! Register here: \nhttps://mygs.girlscouts.org/event-detail?id=688-06292025-TS-01 \nKristin is making shirts! Send her a blank shirt by June 1 and she will make one for all adults and kids marching:
URL:https://troop46230.com/event/walking-with-gsww-in-seattle-pride-parade/
END:VEVENT
END:VCALENDAR