BEGIN:VCALENDAR
VERSION:2.0
PRODID:-// - ECPv6.15.20//NONSGML v1.0//EN
CALSCALE:GREGORIAN
METHOD:PUBLISH
X-ORIGINAL-URL:https://troop46230.com
X-WR-CALDESC:Events for 
REFRESH-INTERVAL;VALUE=DURATION:PT1H
X-Robots-Tag:noindex
X-PUBLISHED-TTL:PT1H
BEGIN:VTIMEZONE
TZID:America/Los_Angeles
BEGIN:DAYLIGHT
TZOFFSETFROM:-0800
TZOFFSETTO:-0700
TZNAME:PDT
DTSTART:20240310T100000
END:DAYLIGHT
BEGIN:STANDARD
TZOFFSETFROM:-0700
TZOFFSETTO:-0800
TZNAME:PST
DTSTART:20241103T090000
END:STANDARD
BEGIN:DAYLIGHT
TZOFFSETFROM:-0800
TZOFFSETTO:-0700
TZNAME:PDT
DTSTART:20250309T100000
END:DAYLIGHT
BEGIN:STANDARD
TZOFFSETFROM:-0700
TZOFFSETTO:-0800
TZNAME:PST
DTSTART:20251102T090000
END:STANDARD
BEGIN:DAYLIGHT
TZOFFSETFROM:-0800
TZOFFSETTO:-0700
TZNAME:PDT
DTSTART:20260308T100000
END:DAYLIGHT
BEGIN:STANDARD
TZOFFSETFROM:-0700
TZOFFSETTO:-0800
TZNAME:PST
DTSTART:20261101T090000
END:STANDARD
END:VTIMEZONE
BEGIN:VEVENT
DTSTART;TZID=America/Los_Angeles:20250707T090000
DTEND;TZID=America/Los_Angeles:20250711T153000
DTSTAMP:20260423T233324
CREATED:20241017T221538Z
LAST-MODIFIED:20241017T221538Z
UID:414-1751878800-1752247800@troop46230.com
SUMMARY:Woodland Park Day Camp - RSVP - $
DESCRIPTION:More info coming soon \nWoodland Park Day Camp – July 7-11\, 2025\n\nWPDC is a week-long day camp run by volunteers in SU520 and SU530 which serves scouts in grades 1-12.  Camp is tentatively set for the week of July 7th (pending Seattle Parks reservation) and registration will likely open in January.  This is a volunteer run camp so looking for adult volunteers to fill various roles (all week unit leader\, part-time helper\, to run errands\, etc).  Daisy/brownie troops – please spread the word to get younger scouts at camp next summer.  For 6th grade scouts who want to make the transition from camper to camp helper\, they can complete their Program Aide (PA) in Training and Leadership in Action (LIA) award through WPDC.  This is a fantastic program where scouts learn how to work with younger kids\, as well as many GS traditions such as songs and games.  Interested families can email Cindy Nevins at cindynevins@gmail.com for more information. 
URL:https://troop46230.com/event/woodland-park-day-camp-rsvp/
END:VEVENT
END:VCALENDAR