BEGIN:VCALENDAR
VERSION:2.0
PRODID:-// - ECPv6.15.20//NONSGML v1.0//EN
CALSCALE:GREGORIAN
METHOD:PUBLISH
X-ORIGINAL-URL:https://troop46230.com
X-WR-CALDESC:Events for 
REFRESH-INTERVAL;VALUE=DURATION:PT1H
X-Robots-Tag:noindex
X-PUBLISHED-TTL:PT1H
BEGIN:VTIMEZONE
TZID:America/Los_Angeles
BEGIN:DAYLIGHT
TZOFFSETFROM:-0800
TZOFFSETTO:-0700
TZNAME:PDT
DTSTART:20240310T100000
END:DAYLIGHT
BEGIN:STANDARD
TZOFFSETFROM:-0700
TZOFFSETTO:-0800
TZNAME:PST
DTSTART:20241103T090000
END:STANDARD
BEGIN:DAYLIGHT
TZOFFSETFROM:-0800
TZOFFSETTO:-0700
TZNAME:PDT
DTSTART:20250309T100000
END:DAYLIGHT
BEGIN:STANDARD
TZOFFSETFROM:-0700
TZOFFSETTO:-0800
TZNAME:PST
DTSTART:20251102T090000
END:STANDARD
BEGIN:DAYLIGHT
TZOFFSETFROM:-0800
TZOFFSETTO:-0700
TZNAME:PDT
DTSTART:20260308T100000
END:DAYLIGHT
BEGIN:STANDARD
TZOFFSETFROM:-0700
TZOFFSETTO:-0800
TZNAME:PST
DTSTART:20261101T090000
END:STANDARD
END:VTIMEZONE
BEGIN:VEVENT
DTSTART;TZID=America/Los_Angeles:20250927T163000
DTEND;TZID=America/Los_Angeles:20250927T183000
DTSTAMP:20260423T203004
CREATED:20250725T164355Z
LAST-MODIFIED:20250725T165958Z
UID:2150-1758990600-1758997800@troop46230.com
SUMMARY:Bridging Ceremony
DESCRIPTION:Our annual bridging ceremony/beginning of year party/summer badge presentation & potluck will be held at the picnic shelter at Paramount Park on September 27th from 4:30-6:30pm. Ceremony will start at 4:30 and we will eat and party after. \nAll rising 2nd graders will cross the bridge from Daisies to Brownies and rising 4th graders will cross the bridge from Brownies to Juniors! We’d love to have all kids (and their families) present! Our rising 3rd and 5th graders will welcome them to the next level. All kids should wear their current vests/sashes/tunics. Bridging kids should also bring with them their new vests (labeled with their names) to change into for the ceremony. \nThis is a (nut free) potluck dinner event. Jaime and Kristin will bring the cupcakes + plates\, utensils & napkins for all food. We have vegans and vegetarians in the troop so if you happen to bring something that is vegan or vegetarian friendly and could mark your dish as such that would be great! \nPlease RSVP here and add what dish or drinks you plan to bring in the notes so we can get a good mix.
URL:https://troop46230.com/event/bridging-ceremony/
END:VEVENT
END:VCALENDAR