BEGIN:VCALENDAR
VERSION:2.0
PRODID:-// - ECPv6.15.20//NONSGML v1.0//EN
CALSCALE:GREGORIAN
METHOD:PUBLISH
X-ORIGINAL-URL:https://troop46230.com
X-WR-CALDESC:Events for 
REFRESH-INTERVAL;VALUE=DURATION:PT1H
X-Robots-Tag:noindex
X-PUBLISHED-TTL:PT1H
BEGIN:VTIMEZONE
TZID:America/Los_Angeles
BEGIN:DAYLIGHT
TZOFFSETFROM:-0800
TZOFFSETTO:-0700
TZNAME:PDT
DTSTART:20240310T100000
END:DAYLIGHT
BEGIN:STANDARD
TZOFFSETFROM:-0700
TZOFFSETTO:-0800
TZNAME:PST
DTSTART:20241103T090000
END:STANDARD
BEGIN:DAYLIGHT
TZOFFSETFROM:-0800
TZOFFSETTO:-0700
TZNAME:PDT
DTSTART:20250309T100000
END:DAYLIGHT
BEGIN:STANDARD
TZOFFSETFROM:-0700
TZOFFSETTO:-0800
TZNAME:PST
DTSTART:20251102T090000
END:STANDARD
BEGIN:DAYLIGHT
TZOFFSETFROM:-0800
TZOFFSETTO:-0700
TZNAME:PDT
DTSTART:20260308T100000
END:DAYLIGHT
BEGIN:STANDARD
TZOFFSETFROM:-0700
TZOFFSETTO:-0800
TZNAME:PST
DTSTART:20261101T090000
END:STANDARD
END:VTIMEZONE
BEGIN:VEVENT
DTSTART;TZID=America/Los_Angeles:20251101T103000
DTEND;TZID=America/Los_Angeles:20251101T113000
DTSTAMP:20260423T171704
CREATED:20250921T183000Z
LAST-MODIFIED:20250921T183402Z
UID:2408-1761993000-1761996600@troop46230.com
SUMMARY:Cats & Daisies - Space Science Badge at the Museum of Flight
DESCRIPTION:The troop will be subsidizing the cost of these a bit if you’d like to take advantage of that. Unfortunately\, since parents have to sign their kids up individually for the below 2\, it will be in the form of cash back to you. Just PM Kristin a receipt of payment. The troop will buy all patches (if they’re not included) for the optional events the leaders pick for the troop to attend together outside of the regular meeting times. \n(1) Space Science badge at the Museum of Flight – November 1 \nCOST: $15 (troop will reimburse $5 per child making it a cost of $10 per kid and provide the badge) \nNOTE: Adults don’t have to register to attend unless they plan to participate. This is not a drop off event\, but troops can retain safety ratios (we need 3 adults attending for each unit). Juniors have take home something to complete the badge at home. \nSpace Science at the Museum of Flight for BROWNIES Nov 1 10:30-11:30am \nhttps://www.girlscoutsww.org/en/sf-events-repository/2025/daisy-brownie-space-science-badge-workshop—the-museum-of-fligh0.html
URL:https://troop46230.com/event/cats-space-science-badge-at-the-museum-of-flight/
END:VEVENT
BEGIN:VEVENT
DTSTART;TZID=America/Los_Angeles:20251101T123000
DTEND;TZID=America/Los_Angeles:20251101T133000
DTSTAMP:20260423T171704
CREATED:20250921T183131Z
LAST-MODIFIED:20250921T183131Z
UID:2410-1762000200-1762003800@troop46230.com
SUMMARY:Bears - Space Science Badge at the Museum of Flight
DESCRIPTION:The troop will be subsidizing the cost of these a bit if you’d like to take advantage of that. Unfortunately\, since parents have to sign their kids up individually for the below 2\, it will be in the form of cash back to you. Just PM Kristin a receipt of payment. The troop will buy all patches (if they’re not included) for the optional events the leaders pick for the troop to attend together outside of the regular meeting times. \n(1) Space Science badge at the Museum of Flight – November 1 \nCOST: $15 (troop will reimburse $5 per child making it a cost of $10 per kid and provide the badge) \nNOTE: Adults don’t have to register to attend unless they plan to participate. This is not a drop off event\, but troops can retain safety ratios (we need 3 adults attending for each unit). Juniors have take home something to complete the badge at home. \nSpace science at the Museum of Flight for JUNIORS Nov 1\, 12:30-1:30pm \nhttps://www.girlscoutsww.org/en/sf-events-repository/2025/junior-space-science-investigator-badge-workshop—the-museum-of0.html
URL:https://troop46230.com/event/bears-space-science-badge-at-the-museum-of-flight/
END:VEVENT
END:VCALENDAR