BEGIN:VCALENDAR
VERSION:2.0
PRODID:-// - ECPv6.15.20//NONSGML v1.0//EN
CALSCALE:GREGORIAN
METHOD:PUBLISH
X-ORIGINAL-URL:https://troop46230.com
X-WR-CALDESC:Events for 
REFRESH-INTERVAL;VALUE=DURATION:PT1H
X-Robots-Tag:noindex
X-PUBLISHED-TTL:PT1H
BEGIN:VTIMEZONE
TZID:America/Los_Angeles
BEGIN:DAYLIGHT
TZOFFSETFROM:-0800
TZOFFSETTO:-0700
TZNAME:PDT
DTSTART:20250309T100000
END:DAYLIGHT
BEGIN:STANDARD
TZOFFSETFROM:-0700
TZOFFSETTO:-0800
TZNAME:PST
DTSTART:20251102T090000
END:STANDARD
BEGIN:DAYLIGHT
TZOFFSETFROM:-0800
TZOFFSETTO:-0700
TZNAME:PDT
DTSTART:20260308T100000
END:DAYLIGHT
BEGIN:STANDARD
TZOFFSETFROM:-0700
TZOFFSETTO:-0800
TZNAME:PST
DTSTART:20261101T090000
END:STANDARD
BEGIN:DAYLIGHT
TZOFFSETFROM:-0800
TZOFFSETTO:-0700
TZNAME:PDT
DTSTART:20270314T100000
END:DAYLIGHT
BEGIN:STANDARD
TZOFFSETFROM:-0700
TZOFFSETTO:-0800
TZNAME:PST
DTSTART:20271107T090000
END:STANDARD
END:VTIMEZONE
BEGIN:VEVENT
DTSTART;TZID=America/Los_Angeles:20260430T164500
DTEND;TZID=America/Los_Angeles:20260430T174500
DTSTAMP:20260423T110522
CREATED:20250921T182323Z
LAST-MODIFIED:20250921T182323Z
UID:2394-1777567500-1777571100@troop46230.com
SUMMARY:Troop 46230 Meeting
DESCRIPTION:
URL:https://troop46230.com/event/troop-46230-meeting-58/
END:VEVENT
BEGIN:VEVENT
DTSTART;TZID=America/Los_Angeles:20260502T150000
DTEND;TZID=America/Los_Angeles:20260502T173000
DTSTAMP:20260423T110522
CREATED:20260320T213834Z
LAST-MODIFIED:20260320T213834Z
UID:2702-1777734000-1777743000@troop46230.com
SUMMARY:Fearless Cute Cats Cookie Celebration Trampoline Party!
DESCRIPTION:Fearless Cute Cats Cookie Celebration Trampoline Party!
URL:https://troop46230.com/event/fearless-cute-cats-cookie-celebration-trampoline-party/
END:VEVENT
BEGIN:VEVENT
DTSTART;TZID=America/Los_Angeles:20260507T164500
DTEND;TZID=America/Los_Angeles:20260507T174500
DTSTAMP:20260423T110522
CREATED:20250921T182434Z
LAST-MODIFIED:20250921T182434Z
UID:2396-1778172300-1778175900@troop46230.com
SUMMARY:Troop 46230 Meeting
DESCRIPTION:
URL:https://troop46230.com/event/troop-46230-meeting-59/
END:VEVENT
BEGIN:VEVENT
DTSTART;TZID=America/Los_Angeles:20260514T164500
DTEND;TZID=America/Los_Angeles:20260514T174500
DTSTAMP:20260423T110522
CREATED:20250921T182455Z
LAST-MODIFIED:20250921T182455Z
UID:2398-1778777100-1778780700@troop46230.com
SUMMARY:Troop 46230 Meeting
DESCRIPTION:
URL:https://troop46230.com/event/troop-46230-meeting-60/
END:VEVENT
BEGIN:VEVENT
DTSTART;TZID=America/Los_Angeles:20260521T164500
DTEND;TZID=America/Los_Angeles:20260521T174500
DTSTAMP:20260423T110522
CREATED:20250921T182515Z
LAST-MODIFIED:20250921T182515Z
UID:2400-1779381900-1779385500@troop46230.com
SUMMARY:Troop 46230 Meeting
DESCRIPTION:
URL:https://troop46230.com/event/troop-46230-meeting-61/
END:VEVENT
BEGIN:VEVENT
DTSTART;TZID=America/Los_Angeles:20260524T150000
DTEND;TZID=America/Los_Angeles:20260524T190000
DTSTAMP:20260423T110522
CREATED:20260327T211137Z
LAST-MODIFIED:20260327T211137Z
UID:2720-1779634800-1779649200@troop46230.com
SUMMARY:Seattle Storm Game!
DESCRIPTION:Seattle Storm Game!
URL:https://troop46230.com/event/seattle-storm-game/
END:VEVENT
BEGIN:VEVENT
DTSTART;TZID=America/Los_Angeles:20260528T164500
DTEND;TZID=America/Los_Angeles:20260528T174500
DTSTAMP:20260423T110522
CREATED:20250921T182539Z
LAST-MODIFIED:20250921T182539Z
UID:2402-1779986700-1779990300@troop46230.com
SUMMARY:Troop 46230 Meeting
DESCRIPTION:
URL:https://troop46230.com/event/troop-46230-meeting-62/
END:VEVENT
BEGIN:VEVENT
DTSTART;TZID=America/Los_Angeles:20260604T164500
DTEND;TZID=America/Los_Angeles:20260604T174500
DTSTAMP:20260423T110522
CREATED:20250921T182603Z
LAST-MODIFIED:20250921T182603Z
UID:2404-1780591500-1780595100@troop46230.com
SUMMARY:Troop 46230 Meeting
DESCRIPTION:
URL:https://troop46230.com/event/troop-46230-meeting-63/
END:VEVENT
BEGIN:VEVENT
DTSTART;TZID=America/Los_Angeles:20260605T143000
DTEND;TZID=America/Los_Angeles:20260607T123000
DTSTAMP:20260423T110522
CREATED:20251106T000936Z
LAST-MODIFIED:20251106T000936Z
UID:2632-1780669800-1780835400@troop46230.com
SUMMARY:Spring Encamporee
DESCRIPTION:Spring Encamporee
URL:https://troop46230.com/event/spring-encamporee/
END:VEVENT
BEGIN:VEVENT
DTSTART;TZID=America/Los_Angeles:20260611T164500
DTEND;TZID=America/Los_Angeles:20260611T174500
DTSTAMP:20260423T110522
CREATED:20250921T182712Z
LAST-MODIFIED:20250921T182712Z
UID:2406-1781196300-1781199900@troop46230.com
SUMMARY:Troop 46230 Meeting
DESCRIPTION:
URL:https://troop46230.com/event/troop-46230-meeting-64/
END:VEVENT
BEGIN:VEVENT
DTSTART;TZID=America/Los_Angeles:20260614T090000
DTEND;TZID=America/Los_Angeles:20260614T140000
DTSTAMP:20260423T110522
CREATED:20260306T180016Z
LAST-MODIFIED:20260306T180016Z
UID:2695-1781427600-1781445600@troop46230.com
SUMMARY:Fearless Cute Cats Service Project at Heartwood Haven Sanctuary
DESCRIPTION:Fearless Cute Cats Service Project at Heartwood Haven Sanctuary
URL:https://troop46230.com/event/fearless-cute-cats-service-project-at-heartwood-haven-sanctuary/
END:VEVENT
BEGIN:VEVENT
DTSTART;TZID=America/Los_Angeles:20260717T080000
DTEND;TZID=America/Los_Angeles:20260719T170000
DTSTAMP:20260423T110522
CREATED:20260328T043500Z
LAST-MODIFIED:20260329T013418Z
UID:2722-1784275200-1784480400@troop46230.com
SUMMARY:Radioactive Gummy Bears Cookie Reward - @ Flying Horseshoe Ranch
DESCRIPTION:Gummy Bear Cookie Reward @ Flying Horseshoe Ranch
URL:https://troop46230.com/event/radioactive-gummy-bears-cookie-reward-flying-horseshoe-ranch/
END:VEVENT
END:VCALENDAR