BEGIN:VCALENDAR
VERSION:2.0
PRODID:-// - ECPv6.15.20//NONSGML v1.0//EN
CALSCALE:GREGORIAN
METHOD:PUBLISH
X-ORIGINAL-URL:https://troop46230.com
X-WR-CALDESC:Events for 
REFRESH-INTERVAL;VALUE=DURATION:PT1H
X-Robots-Tag:noindex
X-PUBLISHED-TTL:PT1H
BEGIN:VTIMEZONE
TZID:America/Los_Angeles
BEGIN:DAYLIGHT
TZOFFSETFROM:-0800
TZOFFSETTO:-0700
TZNAME:PDT
DTSTART:20240310T100000
END:DAYLIGHT
BEGIN:STANDARD
TZOFFSETFROM:-0700
TZOFFSETTO:-0800
TZNAME:PST
DTSTART:20241103T090000
END:STANDARD
BEGIN:DAYLIGHT
TZOFFSETFROM:-0800
TZOFFSETTO:-0700
TZNAME:PDT
DTSTART:20250309T100000
END:DAYLIGHT
BEGIN:STANDARD
TZOFFSETFROM:-0700
TZOFFSETTO:-0800
TZNAME:PST
DTSTART:20251102T090000
END:STANDARD
BEGIN:DAYLIGHT
TZOFFSETFROM:-0800
TZOFFSETTO:-0700
TZNAME:PDT
DTSTART:20260308T100000
END:DAYLIGHT
BEGIN:STANDARD
TZOFFSETFROM:-0700
TZOFFSETTO:-0800
TZNAME:PST
DTSTART:20261101T090000
END:STANDARD
END:VTIMEZONE
BEGIN:VEVENT
DTSTART;TZID=America/Los_Angeles:20251206T103000
DTEND;TZID=America/Los_Angeles:20251206T113000
DTSTAMP:20260423T135233
CREATED:20251105T194248Z
LAST-MODIFIED:20251105T194248Z
UID:2425-1765017000-1765020600@troop46230.com
SUMMARY:Space Science for Daisies & Brownies
DESCRIPTION:Daisy/Brownie Space Science Badge Workshop @ The Museum of Flight (Dec 2025)\nMembership Required – $15 per scout (adults don’t need to register unless they’d like to assist the Leadership during the Workshop) – Troop will subsidize $5 for this event \nFor reimbursements of Troop Subsidized Event Fees\, Please email proof of purchase to Troop46230@gmail.com \n\nDate & Time:Sat Dec 06\, 10:30 AM PST – 11:30 AM PST\n\nExplore\, observe\, and investigate what’s up in the night sky during this live\, interactive planetarium experience. You might learn how to find your favorite constellation\, why stars twinkle\, or what it’s like to land on the largest volcano in the solar system! \nGirl Scouts of Western Washington events are open to girls and gender-expansive youth.
URL:https://troop46230.com/event/space-science-for-daisies-brownies/
END:VEVENT
BEGIN:VEVENT
DTSTART;TZID=America/Los_Angeles:20251206T103000
DTEND;TZID=America/Los_Angeles:20251206T113000
DTSTAMP:20260423T135233
CREATED:20250921T184128Z
LAST-MODIFIED:20250921T184128Z
UID:2415-1765017000-1765020600@troop46230.com
SUMMARY:Cats & Daisies - Space Science Badge at the Museum of Flight
DESCRIPTION:The troop will be subsidizing the cost of these a bit if you’d like to take advantage of that. Unfortunately\, since parents have to sign their kids up individually for the below 2\, it will be in the form of cash back to you. Just PM Kristin a receipt of payment. The troop will buy all patches (if they’re not included) for the optional events the leaders pick for the troop to attend together outside of the regular meeting times. \nSpace Science badge at the Museum of Flight – December 6 \nCOST: $15 (troop will reimburse $5 per child making it a cost of $10 per kid and provide the badge) \nNOTE: Adults don’t have to register to attend unless they plan to participate. This is not a drop off event\, but troops can retain safety ratios (we need 3 adults attending for each unit). Juniors have take home something to complete the badge at home. \nSpace Science at the Museum of Flight for BROWNIES 10:30-11:30am \nhttps://www.girlscoutsww.org/en/sf-events-repository/2025/daisy-brownie-space-science-badge-workshop—the-museum-of-fligh0.html
URL:https://troop46230.com/event/cats-daisies-space-science-badge-at-the-museum-of-flight/
END:VEVENT
BEGIN:VEVENT
DTSTART;TZID=America/Los_Angeles:20251204T164500
DTEND;TZID=America/Los_Angeles:20251204T174500
DTSTAMP:20260423T135233
CREATED:20250921T181439Z
LAST-MODIFIED:20250921T181439Z
UID:2360-1764866700-1764870300@troop46230.com
SUMMARY:Troop 46230 Meeting
DESCRIPTION:
URL:https://troop46230.com/event/troop-46230-meeting-41/
END:VEVENT
BEGIN:VEVENT
DTSTART;TZID=America/Los_Angeles:20251120T164500
DTEND;TZID=America/Los_Angeles:20251120T174500
DTSTAMP:20260423T135233
CREATED:20250921T180450Z
LAST-MODIFIED:20250921T180450Z
UID:2358-1763657100-1763660700@troop46230.com
SUMMARY:Troop 46230 Meeting
DESCRIPTION:
URL:https://troop46230.com/event/troop-46230-meeting-40/
END:VEVENT
BEGIN:VEVENT
DTSTART;TZID=America/Los_Angeles:20251115T080000
DTEND;TZID=America/Los_Angeles:20251115T160000
DTSTAMP:20260423T135233
CREATED:20251105T194120Z
LAST-MODIFIED:20251105T194120Z
UID:2423-1763193600-1763222400@troop46230.com
SUMMARY:Northern Lights Learning Conference
DESCRIPTION:Northern Lights 2025 Learning Conference @ Arlington\nMembership Required – $30 Base Fee (more for some activities) – Troop will subsidize $15 of the base fee. \nFor reimbursements of Troop Subsidized Event Fees\, Please email proof of purchase to Troop46230@gmail.com \n\nDate & Time:Sat Nov 15\, 8:00 AM PST – 4:00 PM PST\n\nJoin us on November 15 in Arlington\, WA\, for our annual Northern Lights Conference! \nWhether you’re an experienced volunteer or teen or just starting your Girl Scout journey\, this conference offers valuable opportunities to enhance your skills and connect with fellow Girl Scouts. This year\, cultivate your creativity and join us for sock monster maker and painting workshops; learn about the new highest award requirements\, complete your Outdoor Overnight training\, develop your understanding of working with neurodiverse audiences\, strategize all things cookie\, and so much more! \nThis event is only open to members of the Girl Scouts of Western Washington Council.
URL:https://troop46230.com/event/northern-lights-learning-conference/
END:VEVENT
BEGIN:VEVENT
DTSTART;TZID=America/Los_Angeles:20251113T164500
DTEND;TZID=America/Los_Angeles:20251113T174500
DTSTAMP:20260423T135233
CREATED:20250921T180431Z
LAST-MODIFIED:20250921T180431Z
UID:2356-1763052300-1763055900@troop46230.com
SUMMARY:Troop 46230 Meeting
DESCRIPTION:
URL:https://troop46230.com/event/troop-46230-meeting-39/
END:VEVENT
BEGIN:VEVENT
DTSTART;TZID=America/Los_Angeles:20251106T164500
DTEND;TZID=America/Los_Angeles:20251106T174500
DTSTAMP:20260423T135233
CREATED:20250921T180412Z
LAST-MODIFIED:20250921T180412Z
UID:2354-1762447500-1762451100@troop46230.com
SUMMARY:Troop 46230 Meeting
DESCRIPTION:
URL:https://troop46230.com/event/troop-46230-meeting-38/
END:VEVENT
BEGIN:VEVENT
DTSTART;TZID=America/Los_Angeles:20251101T123000
DTEND;TZID=America/Los_Angeles:20251101T133000
DTSTAMP:20260423T135233
CREATED:20250921T183131Z
LAST-MODIFIED:20250921T183131Z
UID:2410-1762000200-1762003800@troop46230.com
SUMMARY:Bears - Space Science Badge at the Museum of Flight
DESCRIPTION:The troop will be subsidizing the cost of these a bit if you’d like to take advantage of that. Unfortunately\, since parents have to sign their kids up individually for the below 2\, it will be in the form of cash back to you. Just PM Kristin a receipt of payment. The troop will buy all patches (if they’re not included) for the optional events the leaders pick for the troop to attend together outside of the regular meeting times. \n(1) Space Science badge at the Museum of Flight – November 1 \nCOST: $15 (troop will reimburse $5 per child making it a cost of $10 per kid and provide the badge) \nNOTE: Adults don’t have to register to attend unless they plan to participate. This is not a drop off event\, but troops can retain safety ratios (we need 3 adults attending for each unit). Juniors have take home something to complete the badge at home. \nSpace science at the Museum of Flight for JUNIORS Nov 1\, 12:30-1:30pm \nhttps://www.girlscoutsww.org/en/sf-events-repository/2025/junior-space-science-investigator-badge-workshop—the-museum-of0.html
URL:https://troop46230.com/event/bears-space-science-badge-at-the-museum-of-flight/
END:VEVENT
BEGIN:VEVENT
DTSTART;TZID=America/Los_Angeles:20251101T103000
DTEND;TZID=America/Los_Angeles:20251101T113000
DTSTAMP:20260423T135233
CREATED:20250921T183000Z
LAST-MODIFIED:20250921T183402Z
UID:2408-1761993000-1761996600@troop46230.com
SUMMARY:Cats & Daisies - Space Science Badge at the Museum of Flight
DESCRIPTION:The troop will be subsidizing the cost of these a bit if you’d like to take advantage of that. Unfortunately\, since parents have to sign their kids up individually for the below 2\, it will be in the form of cash back to you. Just PM Kristin a receipt of payment. The troop will buy all patches (if they’re not included) for the optional events the leaders pick for the troop to attend together outside of the regular meeting times. \n(1) Space Science badge at the Museum of Flight – November 1 \nCOST: $15 (troop will reimburse $5 per child making it a cost of $10 per kid and provide the badge) \nNOTE: Adults don’t have to register to attend unless they plan to participate. This is not a drop off event\, but troops can retain safety ratios (we need 3 adults attending for each unit). Juniors have take home something to complete the badge at home. \nSpace Science at the Museum of Flight for BROWNIES Nov 1 10:30-11:30am \nhttps://www.girlscoutsww.org/en/sf-events-repository/2025/daisy-brownie-space-science-badge-workshop—the-museum-of-fligh0.html
URL:https://troop46230.com/event/cats-space-science-badge-at-the-museum-of-flight/
END:VEVENT
BEGIN:VEVENT
DTSTART;TZID=America/Los_Angeles:20251030T164500
DTEND;TZID=America/Los_Angeles:20251030T174500
DTSTAMP:20260423T135233
CREATED:20250921T175809Z
LAST-MODIFIED:20250921T175809Z
UID:2350-1761842700-1761846300@troop46230.com
SUMMARY:Troop 46230 Meeting
DESCRIPTION:
URL:https://troop46230.com/event/troop-46230-meeting-37/
END:VEVENT
BEGIN:VEVENT
DTSTART;TZID=America/Los_Angeles:20251024T170000
DTEND;TZID=America/Los_Angeles:20251024T180000
DTSTAMP:20260423T135233
CREATED:20250921T180245Z
LAST-MODIFIED:20250921T180245Z
UID:2352-1761325200-1761328800@troop46230.com
SUMMARY:Lake City Trick or Treat Walk
DESCRIPTION:Join the troop and walk around and Trick or Treat at Lake City Businesses! Costumes optional\, but encouraged.
URL:https://troop46230.com/event/lake-city-trick-or-treat-walk/
END:VEVENT
BEGIN:VEVENT
DTSTART;TZID=America/Los_Angeles:20251023T164500
DTEND;TZID=America/Los_Angeles:20251023T174500
DTSTAMP:20260423T135233
CREATED:20250921T175738Z
LAST-MODIFIED:20250921T175738Z
UID:2348-1761237900-1761241500@troop46230.com
SUMMARY:Troop 46230 Meeting
DESCRIPTION:
URL:https://troop46230.com/event/troop-46230-meeting-36/
END:VEVENT
BEGIN:VEVENT
DTSTART;TZID=America/Los_Angeles:20251017T140000
DTEND;TZID=America/Los_Angeles:20251019T120000
DTSTAMP:20260423T135233
CREATED:20250222T004020Z
LAST-MODIFIED:20250222T004020Z
UID:990-1760709600-1760875200@troop46230.com
SUMMARY:Skillettes - RSVP - $
DESCRIPTION:More info and RSVP form can be found here: \nSkillettes
URL:https://troop46230.com/event/skillettes-rsvp-2/
LOCATION:Camp St. Albans
END:VEVENT
BEGIN:VEVENT
DTSTART;TZID=America/Los_Angeles:20251016T164500
DTEND;TZID=America/Los_Angeles:20251016T174500
DTSTAMP:20260423T135233
CREATED:20250921T175712Z
LAST-MODIFIED:20250921T175712Z
UID:2346-1760633100-1760636700@troop46230.com
SUMMARY:Troop 46230 Meeting
DESCRIPTION:
URL:https://troop46230.com/event/troop-46230-meeting-35/
END:VEVENT
BEGIN:VEVENT
DTSTART;TZID=America/Los_Angeles:20251009T164500
DTEND;TZID=America/Los_Angeles:20251009T174500
DTSTAMP:20260423T135233
CREATED:20250921T175647Z
LAST-MODIFIED:20250921T175647Z
UID:2344-1760028300-1760031900@troop46230.com
SUMMARY:Troop 46230 Meeting
DESCRIPTION:
URL:https://troop46230.com/event/troop-46230-meeting-34/
END:VEVENT
BEGIN:VEVENT
DTSTART;TZID=America/Los_Angeles:20251005T090000
DTEND;TZID=America/Los_Angeles:20251005T150000
DTSTAMP:20260423T135233
CREATED:20250921T183318Z
LAST-MODIFIED:20250921T183318Z
UID:2412-1759654800-1759676400@troop46230.com
SUMMARY:Bears & Cats - Automotive Design & Engineering at LeMay Car Museum
DESCRIPTION:The troop will be subsidizing the cost of these a bit if you’d like to take advantage of that. Unfortunately\, since parents have to sign their kids up individually for the below 2\, it will be in the form of cash back to you. Just PM Kristin a receipt of payment. The troop will buy all patches (if they’re not included) for the optional events the leaders pick for the troop to attend together outside of the regular meeting times. \nLeMay Automotive design and engineering: \nOct 5: 9am-3pm \nCOST: $35 per scout and $6 per attending adult (troop will reimburse $20 per child making it a cost of $15 per kid and provide all 3 badges. Troop will additionally reimburse the $6 per adult attending if you are willing to carpool and chaperone other kids) \nNOTE: This is not a drop off event\, but troops can retain safety ratios (we need 3 adults attending for every 15 scouts\, and one more adult for each 5 scouts after that). They will earn the 3 badge Automotive Design\, Manufacturing\, and Engineering series. \nhttps://www.americascarmuseum.org/events
URL:https://troop46230.com/event/bears-cats-automotive-design-engineering-at-lemay-car-museum/
END:VEVENT
BEGIN:VEVENT
DTSTART;TZID=America/Los_Angeles:20251002T164500
DTEND;TZID=America/Los_Angeles:20251002T174500
DTSTAMP:20260423T135233
CREATED:20250921T175323Z
LAST-MODIFIED:20250921T175323Z
UID:2342-1759423500-1759427100@troop46230.com
SUMMARY:Troop 46230 Meeting
DESCRIPTION:
URL:https://troop46230.com/event/troop-46230-meeting-33/
END:VEVENT
BEGIN:VEVENT
DTSTART;TZID=America/Los_Angeles:20250927T163000
DTEND;TZID=America/Los_Angeles:20250927T183000
DTSTAMP:20260423T135233
CREATED:20250725T164355Z
LAST-MODIFIED:20250725T165958Z
UID:2150-1758990600-1758997800@troop46230.com
SUMMARY:Bridging Ceremony
DESCRIPTION:Our annual bridging ceremony/beginning of year party/summer badge presentation & potluck will be held at the picnic shelter at Paramount Park on September 27th from 4:30-6:30pm. Ceremony will start at 4:30 and we will eat and party after. \nAll rising 2nd graders will cross the bridge from Daisies to Brownies and rising 4th graders will cross the bridge from Brownies to Juniors! We’d love to have all kids (and their families) present! Our rising 3rd and 5th graders will welcome them to the next level. All kids should wear their current vests/sashes/tunics. Bridging kids should also bring with them their new vests (labeled with their names) to change into for the ceremony. \nThis is a (nut free) potluck dinner event. Jaime and Kristin will bring the cupcakes + plates\, utensils & napkins for all food. We have vegans and vegetarians in the troop so if you happen to bring something that is vegan or vegetarian friendly and could mark your dish as such that would be great! \nPlease RSVP here and add what dish or drinks you plan to bring in the notes so we can get a good mix.
URL:https://troop46230.com/event/bridging-ceremony/
END:VEVENT
BEGIN:VEVENT
DTSTART;VALUE=DATE:20250924
DTEND;VALUE=DATE:20250925
DTSTAMP:20260423T135233
CREATED:20250823T172523Z
LAST-MODIFIED:20250823T173127Z
UID:2229-1758672000-1758758399@troop46230.com
SUMMARY:Fall Product Sales Start
DESCRIPTION:
URL:https://troop46230.com/event/fall-product-sales-start/
END:VEVENT
BEGIN:VEVENT
DTSTART;TZID=America/Los_Angeles:20250828T120000
DTEND;TZID=America/Los_Angeles:20250831T150000
DTSTAMP:20260423T135233
CREATED:20250222T004322Z
LAST-MODIFIED:20250222T004322Z
UID:993-1756382400-1756652400@troop46230.com
SUMMARY:Camp S'more at River Ranch (Cookie Reward) - RSVP
DESCRIPTION:More info and RSVP can be found here: \nCamp S’more at River Ranch (Cookie Reward)
URL:https://troop46230.com/event/camp-smore-at-river-ranch-cookie-reward-rsvp/
LOCATION:River Ranch\, 33300 NE 32nd St\, Carnation\, WA\, 98014\, United States
END:VEVENT
BEGIN:VEVENT
DTSTART;TZID=America/Los_Angeles:20250821T180000
DTEND;TZID=America/Los_Angeles:20250821T200000
DTSTAMP:20260423T135233
CREATED:20250602T222835Z
LAST-MODIFIED:20250602T222835Z
UID:1948-1755799200-1755806400@troop46230.com
SUMMARY:All Troop Canoe (maybe kayak) Adventure @ the WAC
DESCRIPTION:We will be renting boats from the WAC (UW Washington Athletic Center) and boating on the lake! If we have enough adults\, we may have some flexibility to also offer kayaking in 2 person kayaks.I will need at least one adult per 2-3 children to RSVP for this to work. If you own or can borrow dry bags or life jackets that is very very helpful! More info and RSVP here.
URL:https://troop46230.com/event/all-troop-canoe-maybe-kayak-adventure-the-wac/
END:VEVENT
BEGIN:VEVENT
DTSTART;TZID=America/Los_Angeles:20250816T100000
DTEND;TZID=America/Los_Angeles:20250816T130000
DTSTAMP:20260423T135233
CREATED:20250602T221709Z
LAST-MODIFIED:20250602T221709Z
UID:1910-1755338400-1755349200@troop46230.com
SUMMARY:All Troop Hike @ Coal Creek Falls
DESCRIPTION:I haven’t decided exactly which loop we will do to see the falls yet as there are MANY options\, but this is an approximately 2-3 mile easy to easy/moderate hike with a gorgeous water fall! We will set out on the trail at 10am and will heat lunch on the hike. More info and RSVP here
URL:https://troop46230.com/event/all-troop-hike-coal-creek-falls/
END:VEVENT
BEGIN:VEVENT
DTSTART;TZID=America/Los_Angeles:20250731T180000
DTEND;TZID=America/Los_Angeles:20250731T193000
DTSTAMP:20260423T135233
CREATED:20250602T220550Z
LAST-MODIFIED:20250602T220550Z
UID:1908-1753984800-1753990200@troop46230.com
SUMMARY:Adorable Radioactive Gummy Bears Outdoor Art Creation @ Twin Ponds Park
DESCRIPTION:The Gummy Bears will create some outdoor art inspired by and created using nature at Twin Ponds Park. More info and RSVP here
URL:https://troop46230.com/event/adorable-radioactive-gummy-bears-outdoor-art-creation-twin-ponds-park/
END:VEVENT
BEGIN:VEVENT
DTSTART;TZID=America/Los_Angeles:20250731T180000
DTEND;TZID=America/Los_Angeles:20250731T190000
DTSTAMP:20260423T135233
CREATED:20250530T163704Z
LAST-MODIFIED:20250530T163704Z
UID:1737-1753984800-1753988400@troop46230.com
SUMMARY:Fearless Cute Cats Park Meetup @ NorthAcres Park
DESCRIPTION:Come join us at a park to play and hang out! This is not a drop off event and is totally optional. Families are welcome\, feel free to bring your dinner to the park! We will have an optional fun activity and the girls are welcome to choose activity or just play! \n \nWe will meet at the playground at NorthAcres Park at 6pm. Optional activity: Make a mini camp lantern! \n\n\nFearless Cute Cats Park Meetup @ NorthAcres Park
URL:https://troop46230.com/event/fearless-cute-cats-park-meetup-northacres-park/
END:VEVENT
BEGIN:VEVENT
DTSTART;TZID=America/Los_Angeles:20250726T203000
DTEND;TZID=America/Los_Angeles:20250726T223000
DTSTAMP:20260423T135233
CREATED:20250610T154105Z
LAST-MODIFIED:20250610T154704Z
UID:2029-1753561800-1753569000@troop46230.com
SUMMARY:All Troop Family Movie Night @ Kristin's
DESCRIPTION:We’ll be watching ‘Troop Beverly Hills’ in Kristin’s outdoor movie theater (Driveway)! Complete with popcorn & Ice Cream! Movie will start at approximately 8:30pm. RSVP HERE
URL:https://troop46230.com/event/all-troop-movie-night-kristins/
ATTACH;FMTTYPE=image/jpeg:https://troop46230.com/wp-content/uploads/2025/06/IMG_5845-scaled.jpg
END:VEVENT
BEGIN:VEVENT
DTSTART;TZID=America/Los_Angeles:20250723T180000
DTEND;TZID=America/Los_Angeles:20250723T200000
DTSTAMP:20260423T135233
CREATED:20250602T202451Z
LAST-MODIFIED:20250627T194819Z
UID:1768-1753293600-1753300800@troop46230.com
SUMMARY:Adorable Radioactive Gummy Bears Craft Fest @ Kristin's Backyard
DESCRIPTION:We will be doing tie Dye and making stepping stones! Maybe some lanyards or friendship bracelets too as kids choose. I’d need some adults to be able to stay and help with this activity. \nBring a snack\, something white to tie dye (I will have pillow cases)\, and any little trinkets or bits you’d like to include in a stepping stone. Most projects can be picked up from Kristin’s house the following week.  RSVP here
URL:https://troop46230.com/event/adorable-radioactive-gummy-bears-craft-fest-kristins-backyard/
END:VEVENT
BEGIN:VEVENT
DTSTART;TZID=America/Los_Angeles:20250719T100000
DTEND;TZID=America/Los_Angeles:20250719T120000
DTSTAMP:20260423T135233
CREATED:20250602T215146Z
LAST-MODIFIED:20250602T215146Z
UID:1833-1752919200-1752926400@troop46230.com
SUMMARY:All Troop Hike: Troll Hunting in Lincoln Park
DESCRIPTION:We will head to Lincoln Park in West Seattle to take a hike and meet Bruun Idun\, the Lincoln Park Troll. We will also be working on our nature watching and first aid badges. Please RSVP here
URL:https://troop46230.com/event/all-troop-hike-troll-hunting-in-lincoln-park/
END:VEVENT
BEGIN:VEVENT
DTSTART;TZID=America/Los_Angeles:20250717T180000
DTEND;TZID=America/Los_Angeles:20250717T193000
DTSTAMP:20260423T135233
CREATED:20250602T203519Z
LAST-MODIFIED:20250602T204435Z
UID:1797-1752775200-1752780600@troop46230.com
SUMMARY:All Troop Meeting at Hamlin Park
DESCRIPTION:If Dash Point Camping is a ‘go’ we will select meals for this trip. We will additionally work on the Citizen Scientist badge. \nIf Dash Point Camping is not a ‘go’ we will work on the citizen scientist and numbers in nature badges. \nPlease RSVP so I can plan meeting materials and make sure we have enough adults attending. RSVP here
URL:https://troop46230.com/event/all-troop-meeting-at-hamlin-park/
END:VEVENT
BEGIN:VEVENT
DTSTART;TZID=America/Los_Angeles:20250707T090000
DTEND;TZID=America/Los_Angeles:20250711T153000
DTSTAMP:20260423T135233
CREATED:20241017T221538Z
LAST-MODIFIED:20241017T221538Z
UID:414-1751878800-1752247800@troop46230.com
SUMMARY:Woodland Park Day Camp - RSVP - $
DESCRIPTION:More info coming soon \nWoodland Park Day Camp – July 7-11\, 2025\n\nWPDC is a week-long day camp run by volunteers in SU520 and SU530 which serves scouts in grades 1-12.  Camp is tentatively set for the week of July 7th (pending Seattle Parks reservation) and registration will likely open in January.  This is a volunteer run camp so looking for adult volunteers to fill various roles (all week unit leader\, part-time helper\, to run errands\, etc).  Daisy/brownie troops – please spread the word to get younger scouts at camp next summer.  For 6th grade scouts who want to make the transition from camper to camp helper\, they can complete their Program Aide (PA) in Training and Leadership in Action (LIA) award through WPDC.  This is a fantastic program where scouts learn how to work with younger kids\, as well as many GS traditions such as songs and games.  Interested families can email Cindy Nevins at cindynevins@gmail.com for more information. 
URL:https://troop46230.com/event/woodland-park-day-camp-rsvp/
END:VEVENT
BEGIN:VEVENT
DTSTART;TZID=America/Los_Angeles:20250629T110000
DTEND;TZID=America/Los_Angeles:20250629T160000
DTSTAMP:20260423T135233
CREATED:20250602T234724Z
LAST-MODIFIED:20250602T234741Z
UID:2018-1751194800-1751212800@troop46230.com
SUMMARY:Walking with GSWW in Seattle Pride Parade
DESCRIPTION:Walk with Troop 46230 and GSWW in the Seattle Pride Parade! Register here: \nhttps://mygs.girlscouts.org/event-detail?id=688-06292025-TS-01 \nKristin is making shirts! Send her a blank shirt by June 1 and she will make one for all adults and kids marching:
URL:https://troop46230.com/event/walking-with-gsww-in-seattle-pride-parade/
END:VEVENT
END:VCALENDAR