BEGIN:VCALENDAR
VERSION:2.0
PRODID:-// - ECPv6.15.20//NONSGML v1.0//EN
CALSCALE:GREGORIAN
METHOD:PUBLISH
X-ORIGINAL-URL:https://troop46230.com
X-WR-CALDESC:Events for 
REFRESH-INTERVAL;VALUE=DURATION:PT1H
X-Robots-Tag:noindex
X-PUBLISHED-TTL:PT1H
BEGIN:VTIMEZONE
TZID:America/Los_Angeles
BEGIN:DAYLIGHT
TZOFFSETFROM:-0800
TZOFFSETTO:-0700
TZNAME:PDT
DTSTART:20240310T100000
END:DAYLIGHT
BEGIN:STANDARD
TZOFFSETFROM:-0700
TZOFFSETTO:-0800
TZNAME:PST
DTSTART:20241103T090000
END:STANDARD
BEGIN:DAYLIGHT
TZOFFSETFROM:-0800
TZOFFSETTO:-0700
TZNAME:PDT
DTSTART:20250309T100000
END:DAYLIGHT
BEGIN:STANDARD
TZOFFSETFROM:-0700
TZOFFSETTO:-0800
TZNAME:PST
DTSTART:20251102T090000
END:STANDARD
BEGIN:DAYLIGHT
TZOFFSETFROM:-0800
TZOFFSETTO:-0700
TZNAME:PDT
DTSTART:20260308T100000
END:DAYLIGHT
BEGIN:STANDARD
TZOFFSETFROM:-0700
TZOFFSETTO:-0800
TZNAME:PST
DTSTART:20261101T090000
END:STANDARD
END:VTIMEZONE
BEGIN:VEVENT
DTSTART;TZID=America/Los_Angeles:20250707T090000
DTEND;TZID=America/Los_Angeles:20250711T153000
DTSTAMP:20260423T215525
CREATED:20241017T221538Z
LAST-MODIFIED:20241017T221538Z
UID:414-1751878800-1752247800@troop46230.com
SUMMARY:Woodland Park Day Camp - RSVP - $
DESCRIPTION:More info coming soon \nWoodland Park Day Camp – July 7-11\, 2025\n\nWPDC is a week-long day camp run by volunteers in SU520 and SU530 which serves scouts in grades 1-12.  Camp is tentatively set for the week of July 7th (pending Seattle Parks reservation) and registration will likely open in January.  This is a volunteer run camp so looking for adult volunteers to fill various roles (all week unit leader\, part-time helper\, to run errands\, etc).  Daisy/brownie troops – please spread the word to get younger scouts at camp next summer.  For 6th grade scouts who want to make the transition from camper to camp helper\, they can complete their Program Aide (PA) in Training and Leadership in Action (LIA) award through WPDC.  This is a fantastic program where scouts learn how to work with younger kids\, as well as many GS traditions such as songs and games.  Interested families can email Cindy Nevins at cindynevins@gmail.com for more information. 
URL:https://troop46230.com/event/woodland-park-day-camp-rsvp/
END:VEVENT
BEGIN:VEVENT
DTSTART;TZID=America/Los_Angeles:20250717T180000
DTEND;TZID=America/Los_Angeles:20250717T193000
DTSTAMP:20260423T215525
CREATED:20250602T203519Z
LAST-MODIFIED:20250602T204435Z
UID:1797-1752775200-1752780600@troop46230.com
SUMMARY:All Troop Meeting at Hamlin Park
DESCRIPTION:If Dash Point Camping is a ‘go’ we will select meals for this trip. We will additionally work on the Citizen Scientist badge. \nIf Dash Point Camping is not a ‘go’ we will work on the citizen scientist and numbers in nature badges. \nPlease RSVP so I can plan meeting materials and make sure we have enough adults attending. RSVP here
URL:https://troop46230.com/event/all-troop-meeting-at-hamlin-park/
END:VEVENT
BEGIN:VEVENT
DTSTART;TZID=America/Los_Angeles:20250719T100000
DTEND;TZID=America/Los_Angeles:20250719T120000
DTSTAMP:20260423T215525
CREATED:20250602T215146Z
LAST-MODIFIED:20250602T215146Z
UID:1833-1752919200-1752926400@troop46230.com
SUMMARY:All Troop Hike: Troll Hunting in Lincoln Park
DESCRIPTION:We will head to Lincoln Park in West Seattle to take a hike and meet Bruun Idun\, the Lincoln Park Troll. We will also be working on our nature watching and first aid badges. Please RSVP here
URL:https://troop46230.com/event/all-troop-hike-troll-hunting-in-lincoln-park/
END:VEVENT
BEGIN:VEVENT
DTSTART;TZID=America/Los_Angeles:20250723T180000
DTEND;TZID=America/Los_Angeles:20250723T200000
DTSTAMP:20260423T215525
CREATED:20250602T202451Z
LAST-MODIFIED:20250627T194819Z
UID:1768-1753293600-1753300800@troop46230.com
SUMMARY:Adorable Radioactive Gummy Bears Craft Fest @ Kristin's Backyard
DESCRIPTION:We will be doing tie Dye and making stepping stones! Maybe some lanyards or friendship bracelets too as kids choose. I’d need some adults to be able to stay and help with this activity. \nBring a snack\, something white to tie dye (I will have pillow cases)\, and any little trinkets or bits you’d like to include in a stepping stone. Most projects can be picked up from Kristin’s house the following week.  RSVP here
URL:https://troop46230.com/event/adorable-radioactive-gummy-bears-craft-fest-kristins-backyard/
END:VEVENT
BEGIN:VEVENT
DTSTART;TZID=America/Los_Angeles:20250726T203000
DTEND;TZID=America/Los_Angeles:20250726T223000
DTSTAMP:20260423T215525
CREATED:20250610T154105Z
LAST-MODIFIED:20250610T154704Z
UID:2029-1753561800-1753569000@troop46230.com
SUMMARY:All Troop Family Movie Night @ Kristin's
DESCRIPTION:We’ll be watching ‘Troop Beverly Hills’ in Kristin’s outdoor movie theater (Driveway)! Complete with popcorn & Ice Cream! Movie will start at approximately 8:30pm. RSVP HERE
URL:https://troop46230.com/event/all-troop-movie-night-kristins/
ATTACH;FMTTYPE=image/jpeg:https://troop46230.com/wp-content/uploads/2025/06/IMG_5845-scaled.jpg
END:VEVENT
BEGIN:VEVENT
DTSTART;TZID=America/Los_Angeles:20250731T180000
DTEND;TZID=America/Los_Angeles:20250731T190000
DTSTAMP:20260423T215525
CREATED:20250530T163704Z
LAST-MODIFIED:20250530T163704Z
UID:1737-1753984800-1753988400@troop46230.com
SUMMARY:Fearless Cute Cats Park Meetup @ NorthAcres Park
DESCRIPTION:Come join us at a park to play and hang out! This is not a drop off event and is totally optional. Families are welcome\, feel free to bring your dinner to the park! We will have an optional fun activity and the girls are welcome to choose activity or just play! \n \nWe will meet at the playground at NorthAcres Park at 6pm. Optional activity: Make a mini camp lantern! \n\n\nFearless Cute Cats Park Meetup @ NorthAcres Park
URL:https://troop46230.com/event/fearless-cute-cats-park-meetup-northacres-park/
END:VEVENT
BEGIN:VEVENT
DTSTART;TZID=America/Los_Angeles:20250731T180000
DTEND;TZID=America/Los_Angeles:20250731T193000
DTSTAMP:20260423T215525
CREATED:20250602T220550Z
LAST-MODIFIED:20250602T220550Z
UID:1908-1753984800-1753990200@troop46230.com
SUMMARY:Adorable Radioactive Gummy Bears Outdoor Art Creation @ Twin Ponds Park
DESCRIPTION:The Gummy Bears will create some outdoor art inspired by and created using nature at Twin Ponds Park. More info and RSVP here
URL:https://troop46230.com/event/adorable-radioactive-gummy-bears-outdoor-art-creation-twin-ponds-park/
END:VEVENT
END:VCALENDAR