BEGIN:VCALENDAR
VERSION:2.0
PRODID:-// - ECPv6.15.20//NONSGML v1.0//EN
CALSCALE:GREGORIAN
METHOD:PUBLISH
X-ORIGINAL-URL:https://troop46230.com
X-WR-CALDESC:Events for 
REFRESH-INTERVAL;VALUE=DURATION:PT1H
X-Robots-Tag:noindex
X-PUBLISHED-TTL:PT1H
BEGIN:VTIMEZONE
TZID:America/Los_Angeles
BEGIN:DAYLIGHT
TZOFFSETFROM:-0800
TZOFFSETTO:-0700
TZNAME:PDT
DTSTART:20240310T100000
END:DAYLIGHT
BEGIN:STANDARD
TZOFFSETFROM:-0700
TZOFFSETTO:-0800
TZNAME:PST
DTSTART:20241103T090000
END:STANDARD
BEGIN:DAYLIGHT
TZOFFSETFROM:-0800
TZOFFSETTO:-0700
TZNAME:PDT
DTSTART:20250309T100000
END:DAYLIGHT
BEGIN:STANDARD
TZOFFSETFROM:-0700
TZOFFSETTO:-0800
TZNAME:PST
DTSTART:20251102T090000
END:STANDARD
BEGIN:DAYLIGHT
TZOFFSETFROM:-0800
TZOFFSETTO:-0700
TZNAME:PDT
DTSTART:20260308T100000
END:DAYLIGHT
BEGIN:STANDARD
TZOFFSETFROM:-0700
TZOFFSETTO:-0800
TZNAME:PST
DTSTART:20261101T090000
END:STANDARD
END:VTIMEZONE
BEGIN:VEVENT
DTSTART;TZID=America/Los_Angeles:20251204T164500
DTEND;TZID=America/Los_Angeles:20251204T174500
DTSTAMP:20260423T142457
CREATED:20250921T181439Z
LAST-MODIFIED:20250921T181439Z
UID:2360-1764866700-1764870300@troop46230.com
SUMMARY:Troop 46230 Meeting
DESCRIPTION:
URL:https://troop46230.com/event/troop-46230-meeting-41/
END:VEVENT
BEGIN:VEVENT
DTSTART;TZID=America/Los_Angeles:20251206T103000
DTEND;TZID=America/Los_Angeles:20251206T113000
DTSTAMP:20260423T142457
CREATED:20250921T184128Z
LAST-MODIFIED:20250921T184128Z
UID:2415-1765017000-1765020600@troop46230.com
SUMMARY:Cats & Daisies - Space Science Badge at the Museum of Flight
DESCRIPTION:The troop will be subsidizing the cost of these a bit if you’d like to take advantage of that. Unfortunately\, since parents have to sign their kids up individually for the below 2\, it will be in the form of cash back to you. Just PM Kristin a receipt of payment. The troop will buy all patches (if they’re not included) for the optional events the leaders pick for the troop to attend together outside of the regular meeting times. \nSpace Science badge at the Museum of Flight – December 6 \nCOST: $15 (troop will reimburse $5 per child making it a cost of $10 per kid and provide the badge) \nNOTE: Adults don’t have to register to attend unless they plan to participate. This is not a drop off event\, but troops can retain safety ratios (we need 3 adults attending for each unit). Juniors have take home something to complete the badge at home. \nSpace Science at the Museum of Flight for BROWNIES 10:30-11:30am \nhttps://www.girlscoutsww.org/en/sf-events-repository/2025/daisy-brownie-space-science-badge-workshop—the-museum-of-fligh0.html
URL:https://troop46230.com/event/cats-daisies-space-science-badge-at-the-museum-of-flight/
END:VEVENT
BEGIN:VEVENT
DTSTART;TZID=America/Los_Angeles:20251206T103000
DTEND;TZID=America/Los_Angeles:20251206T113000
DTSTAMP:20260423T142457
CREATED:20251105T194248Z
LAST-MODIFIED:20251105T194248Z
UID:2425-1765017000-1765020600@troop46230.com
SUMMARY:Space Science for Daisies & Brownies
DESCRIPTION:Daisy/Brownie Space Science Badge Workshop @ The Museum of Flight (Dec 2025)\nMembership Required – $15 per scout (adults don’t need to register unless they’d like to assist the Leadership during the Workshop) – Troop will subsidize $5 for this event \nFor reimbursements of Troop Subsidized Event Fees\, Please email proof of purchase to Troop46230@gmail.com \n\nDate & Time:Sat Dec 06\, 10:30 AM PST – 11:30 AM PST\n\nExplore\, observe\, and investigate what’s up in the night sky during this live\, interactive planetarium experience. You might learn how to find your favorite constellation\, why stars twinkle\, or what it’s like to land on the largest volcano in the solar system! \nGirl Scouts of Western Washington events are open to girls and gender-expansive youth.
URL:https://troop46230.com/event/space-science-for-daisies-brownies/
END:VEVENT
BEGIN:VEVENT
DTSTART;TZID=America/Los_Angeles:20251206T123000
DTEND;TZID=America/Los_Angeles:20251206T133000
DTSTAMP:20260423T142457
CREATED:20250921T184250Z
LAST-MODIFIED:20250921T184250Z
UID:2417-1765024200-1765027800@troop46230.com
SUMMARY:Bears – Space Science Badge at the Museum of Flight
DESCRIPTION:The troop will be subsidizing the cost of these a bit if you’d like to take advantage of that. Unfortunately\, since parents have to sign their kids up individually for the below 2\, it will be in the form of cash back to you. Just PM Kristin a receipt of payment. The troop will buy all patches (if they’re not included) for the optional events the leaders pick for the troop to attend together outside of the regular meeting times. \n(1) Space Science badge at the Museum of Flight – December 6 \nCOST: $15 (troop will reimburse $5 per child making it a cost of $10 per kid and provide the badge) \nNOTE: Adults don’t have to register to attend unless they plan to participate. This is not a drop off event\, but troops can retain safety ratios (we need 3 adults attending for each unit). Juniors have take home something to complete the badge at home. \nSpace science at the Museum of Flight for JUNIORS  12:30-1:30pm \nhttps://www.girlscoutsww.org/en/sf-events-repository/2025/junior-space-science-investigator-badge-workshop—the-museum-of0.html
URL:https://troop46230.com/event/bears-space-science-badge-at-the-museum-of-flight-2/
END:VEVENT
BEGIN:VEVENT
DTSTART;TZID=America/Los_Angeles:20251206T123000
DTEND;TZID=America/Los_Angeles:20251206T133000
DTSTAMP:20260423T142457
CREATED:20251105T194351Z
LAST-MODIFIED:20251105T194351Z
UID:2427-1765024200-1765027800@troop46230.com
SUMMARY:Space Science for Juniors
DESCRIPTION:For reimbursements of Troop Subsidized Event Fees\, Please email proof of purchase to Troop46230@gmail.com \n\nJunior Space Science Investigator Badge Workshop @ The Museum of Flight (Dec 2025)\nMembership Required – $15 per scout (adults need not register unless they’d like to assist the Leadership during the Workshop) – Troop will subsidize $5 for this event \n\nDate & Time:Sat Dec 06\, 12:30 PM PST – 1:30 PM PST\n\nGet ready for an out-of-this-world adventure exploring the solar system and beyond! You’ll dive into topics and interactive investigations about the size and scale of space\, the Earth\, the Solar System and the stars. \nGirl Scouts of Western Washington events are open to girls and gender-expansive youth.
URL:https://troop46230.com/event/space-science-for-juniors/
END:VEVENT
BEGIN:VEVENT
DTSTART;TZID=America/Los_Angeles:20251211T164500
DTEND;TZID=America/Los_Angeles:20251211T174500
DTSTAMP:20260423T142457
CREATED:20250921T181502Z
LAST-MODIFIED:20250921T181502Z
UID:2362-1765471500-1765475100@troop46230.com
SUMMARY:Troop 46230 Meeting
DESCRIPTION:
URL:https://troop46230.com/event/troop-46230-meeting-42/
END:VEVENT
BEGIN:VEVENT
DTSTART;TZID=America/Los_Angeles:20251218T164500
DTEND;TZID=America/Los_Angeles:20251218T174500
DTSTAMP:20260423T142457
CREATED:20250921T181525Z
LAST-MODIFIED:20250921T181525Z
UID:2364-1766076300-1766079900@troop46230.com
SUMMARY:Troop 46230 Meeting
DESCRIPTION:
URL:https://troop46230.com/event/troop-46230-meeting-43/
END:VEVENT
END:VCALENDAR