BEGIN:VCALENDAR
VERSION:2.0
PRODID:-// - ECPv6.15.20//NONSGML v1.0//EN
CALSCALE:GREGORIAN
METHOD:PUBLISH
X-ORIGINAL-URL:https://troop46230.com
X-WR-CALDESC:Events for 
REFRESH-INTERVAL;VALUE=DURATION:PT1H
X-Robots-Tag:noindex
X-PUBLISHED-TTL:PT1H
BEGIN:VTIMEZONE
TZID:America/Los_Angeles
BEGIN:DAYLIGHT
TZOFFSETFROM:-0800
TZOFFSETTO:-0700
TZNAME:PDT
DTSTART:20250309T100000
END:DAYLIGHT
BEGIN:STANDARD
TZOFFSETFROM:-0700
TZOFFSETTO:-0800
TZNAME:PST
DTSTART:20251102T090000
END:STANDARD
BEGIN:DAYLIGHT
TZOFFSETFROM:-0800
TZOFFSETTO:-0700
TZNAME:PDT
DTSTART:20260308T100000
END:DAYLIGHT
BEGIN:STANDARD
TZOFFSETFROM:-0700
TZOFFSETTO:-0800
TZNAME:PST
DTSTART:20261101T090000
END:STANDARD
BEGIN:DAYLIGHT
TZOFFSETFROM:-0800
TZOFFSETTO:-0700
TZNAME:PDT
DTSTART:20270314T100000
END:DAYLIGHT
BEGIN:STANDARD
TZOFFSETFROM:-0700
TZOFFSETTO:-0800
TZNAME:PST
DTSTART:20271107T090000
END:STANDARD
END:VTIMEZONE
BEGIN:VEVENT
DTSTART;TZID=America/Los_Angeles:20260108T164500
DTEND;TZID=America/Los_Angeles:20260108T174500
DTSTAMP:20260423T124539
CREATED:20250921T181613Z
LAST-MODIFIED:20250921T181613Z
UID:2366-1767890700-1767894300@troop46230.com
SUMMARY:Troop 46230 Meeting
DESCRIPTION:
URL:https://troop46230.com/event/troop-46230-meeting-44/
END:VEVENT
BEGIN:VEVENT
DTSTART;TZID=America/Los_Angeles:20260108T170000
DTEND;TZID=America/Los_Angeles:20260108T200000
DTSTAMP:20260423T124539
CREATED:20251105T194634Z
LAST-MODIFIED:20251105T194634Z
UID:2429-1767891600-1767902400@troop46230.com
SUMMARY:American Red Cross Blended First Aid/CPR/AED Training for Adults
DESCRIPTION:For reimbursements of Troop Subsidized Event Fees\, Please email proof of purchase to Troop46230@gmail.com \n\n\nAmerican Red Cross Blended First Aid/CPR/AED @ Mountlake Terrace (Jan 2026)\nMembership Required – Cost is $40 – Troop will subsidize 1 Bear Parent and up to 2 Daisy Parents willing to get certified and help with the troop when needed. Email Kristin at Troop46230@gmail.com if you’d like to be one of the adults subsidized BEFORE you register. We need at least one First Aid/CPR Trained adult present at all meetings\, outings and events.  \n\nDate & Time:Thu Jan 08\, 5:00 PM PST – 8:00 PM PST\n\nComplete your First Aid/CPR requirement with this blended workshop! This American Red Cross Adult First Aid/CPR/AED Blended course meets the Girl Scout Requirements. \nThis event is only open to members of the Girl Scouts of Western Washington Council.
URL:https://troop46230.com/event/american-red-cross-blended-first-aid-cpr-aed-training-for-adults/
END:VEVENT
BEGIN:VEVENT
DTSTART;VALUE=DATE:20260110
DTEND;VALUE=DATE:20260111
DTSTAMP:20260423T124539
CREATED:20251105T203727Z
LAST-MODIFIED:20251105T203727Z
UID:2540-1768003200-1768089599@troop46230.com
SUMMARY:Cookie Rally
DESCRIPTION:Cookie Rally
URL:https://troop46230.com/event/cookie-rally/
END:VEVENT
BEGIN:VEVENT
DTSTART;TZID=America/Los_Angeles:20260115T164500
DTEND;TZID=America/Los_Angeles:20260115T174500
DTSTAMP:20260423T124539
CREATED:20250921T181639Z
LAST-MODIFIED:20250921T181639Z
UID:2368-1768495500-1768499100@troop46230.com
SUMMARY:Troop 46230 Meeting
DESCRIPTION:
URL:https://troop46230.com/event/troop-46230-meeting-45/
END:VEVENT
BEGIN:VEVENT
DTSTART;TZID=America/Los_Angeles:20260117T100000
DTEND;TZID=America/Los_Angeles:20260117T120000
DTSTAMP:20260423T124539
CREATED:20251105T194801Z
LAST-MODIFIED:20251105T194801Z
UID:2431-1768644000-1768651200@troop46230.com
SUMMARY:Junior Body Appreciate Workshop (Bears Only)
DESCRIPTION:For reimbursements of Troop Subsidized Event Fees\, Please email proof of purchase to Troop46230@gmail.com\nBody Appreciation Badge Workshop J/C @ Everett\nMembership Required – $20 per scout – Troop will subsidize $10 for this event \n\nDate & Time:Sat Jan 17\, 10:00 AM PST – 12:00 PM PST\n\nThe Body Appreciation badge line is all about helping girls see their bodies in a whole new way. It guides Girl Scouts to appreciate everything their bodies can do-from breathing and thinking to running\, dancing\, and creating. Through fun\, age-appropriate\, and progressive activities\, Girl Scouts build confidence\, practice self-care\, and start lifelong habits that support both physical and emotional well-being. \nGirl Scouts of Western Washington events are open to girls and gender-expansive youth.
URL:https://troop46230.com/event/junior-body-appreciate-workshop-bears-only/
END:VEVENT
BEGIN:VEVENT
DTSTART;TZID=America/Los_Angeles:20260119T130000
DTEND;TZID=America/Los_Angeles:20260119T160000
DTSTAMP:20260423T124539
CREATED:20260112T223733Z
LAST-MODIFIED:20260112T224941Z
UID:2676-1768827600-1768838400@troop46230.com
SUMMARY:Cats Brownie Quest Journey TAP: Planting Trees in Hamlin
DESCRIPTION:Info and RSVP Here: https://troop46230.com/rsvpmaker/browie-quest-journey-take-action-project-planting-trees/
URL:https://troop46230.com/event/cats-brownie-quest-journey-tap-planting-trees-in-hamlin/
END:VEVENT
BEGIN:VEVENT
DTSTART;TZID=America/Los_Angeles:20260122T134500
DTEND;TZID=America/Los_Angeles:20260122T153000
DTSTAMP:20260423T124539
CREATED:20251105T195121Z
LAST-MODIFIED:20251105T195121Z
UID:2433-1769089500-1769095800@troop46230.com
SUMMARY:GSWW Film Festival 2026
DESCRIPTION:For reimbursements of Troop Subsidized Event Fees\, Please email proof of purchase to Troop46230@gmail.com \n\n\n\n\n\n\n\n\n\nAll Ages – GSWW Film Festival 2026 @ Seattle Center\n\nMembership Required – $25 per scout (adults are free\, but need to register) – Troop will subsidize $15 for this event. We will likely Light Rail + Monorail to Seattle Center Together\n\n\n\n\n\n\n\n\n\n\n\n\n\n\n\n\n\n\n\n\nDate & Time: January 22nd\nChoose Option 3: PM Screening – DBJ Only\n1:45 pm Doors Open\n2:00 pm – 3:30 pm Film Screening\n\nLights\, Camera\, Action! Come see GS made films at the SIFF Film Center\, engage in exciting Digital Storytelling workshops at the Seattle Center! \nThis event is only open to members of the Girl Scouts of Western Washington council. \nGirl Scouts of Western Washington events are open to girls and gender-expansive youth.
URL:https://troop46230.com/event/gsww-film-festival-2026/
END:VEVENT
BEGIN:VEVENT
DTSTART;TZID=America/Los_Angeles:20260122T164500
DTEND;TZID=America/Los_Angeles:20260122T174500
DTSTAMP:20260423T124539
CREATED:20250921T181659Z
LAST-MODIFIED:20250921T181659Z
UID:2370-1769100300-1769103900@troop46230.com
SUMMARY:Troop 46230 Meeting
DESCRIPTION:
URL:https://troop46230.com/event/troop-46230-meeting-46/
END:VEVENT
BEGIN:VEVENT
DTSTART;TZID=America/Los_Angeles:20260129T164500
DTEND;TZID=America/Los_Angeles:20260129T174500
DTSTAMP:20260423T124539
CREATED:20250921T181729Z
LAST-MODIFIED:20250921T181729Z
UID:2372-1769705100-1769708700@troop46230.com
SUMMARY:Troop 46230 Meeting
DESCRIPTION:
URL:https://troop46230.com/event/troop-46230-meeting-47/
END:VEVENT
END:VCALENDAR