BEGIN:VCALENDAR
VERSION:2.0
CALSCALE:GREGORIAN
PRODID:-//WordPress//RSVPMaker//EN
METHOD:REQUEST
BEGIN:VEVENT
DTSTAMP:20260423T160203Z
UID:A381C2C35C9157F6B67FD07D5A200AE1@rsvpmaker.com
SEQUENCE:0
STATUS:CONFIRMED
DTSTART:20250927T233000Z
DTEND:20250928T003000Z
LOCATION:See\: https\://troop46230.com/rsvpmaker/all-troop-bridging-ce
 remony/
SUMMARY:All Troop Bridging Ceremony
DESCRIPTION:Event info\: https\://troop46230.com/rsvpmaker/all-troop-b
 ridging-ceremony/
END:VEVENT
END:VCALENDAR