BEGIN:VCALENDAR
VERSION:2.0
CALSCALE:GREGORIAN
PRODID:-//WordPress//RSVPMaker//EN
METHOD:REQUEST
BEGIN:VEVENT
DTSTAMP:20260423T160239Z
UID:04DF4D434D481C5BB723BE1B6DF1EE65@rsvpmaker.com
SEQUENCE:0
STATUS:CONFIRMED
DTSTART:20250816T170000Z
DTEND:20250816T180000Z
LOCATION:See\: https\://troop46230.com/rsvpmaker/all-troop-hike-coal-c
 reek-falls/
SUMMARY:All Troop Hike: Coal Creek Falls
DESCRIPTION:Event info\: https\://troop46230.com/rsvpmaker/all-troop-h
 ike-coal-creek-falls/
END:VEVENT
END:VCALENDAR