BEGIN:VCALENDAR
VERSION:2.0
CALSCALE:GREGORIAN
PRODID:-//WordPress//RSVPMaker//EN
METHOD:REQUEST
BEGIN:VEVENT
DTSTAMP:20260423T160949Z
UID:DFCE06801E1A85D6D06F1FDD4475DACD@rsvpmaker.com
SEQUENCE:0
STATUS:CONFIRMED
DTSTART:20250719T170000Z
DTEND:20250719T180000Z
LOCATION:See\: https\://troop46230.com/rsvpmaker/all-troop-hike/
SUMMARY:All Troop Hike: Troll Hunting in Lincoln Park
DESCRIPTION:Event info\: https\://troop46230.com/rsvpmaker/all-troop-h
 ike/
END:VEVENT
END:VCALENDAR