BEGIN:VCALENDAR
VERSION:2.0
CALSCALE:GREGORIAN
PRODID:-//WordPress//RSVPMaker//EN
METHOD:REQUEST
BEGIN:VEVENT
DTSTAMP:20260423T191738Z
UID:CD14821DAB219EA06E2FD1A2DF2E3582@rsvpmaker.com
SEQUENCE:0
STATUS:CONFIRMED
DTSTART:20250718T010000Z
DTEND:20250718T020000Z
LOCATION:See\: https\://troop46230.com/rsvpmaker/all-troop-meeting-ham
 lin-park/
SUMMARY:All Troop Meeting @ Hamlin Park
DESCRIPTION:Event info\: https\://troop46230.com/rsvpmaker/all-troop-m
 eeting-hamlin-park/
END:VEVENT
END:VCALENDAR