BEGIN:VCALENDAR
VERSION:2.0
CALSCALE:GREGORIAN
PRODID:-//WordPress//RSVPMaker//EN
METHOD:REQUEST
BEGIN:VEVENT
DTSTAMP:20260423T160218Z
UID:88EF51F0BF911E452E8DBB1D807A81AB@rsvpmaker.com
SEQUENCE:0
STATUS:CONFIRMED
DTSTART:20250727T033000Z
DTEND:20250727T043000Z
LOCATION:See\: https\://troop46230.com/rsvpmaker/all-troop-movie-night
 /
SUMMARY:All Troop Family Movie Night!
DESCRIPTION:Event info\: https\://troop46230.com/rsvpmaker/all-troop-m
 ovie-night/
END:VEVENT
END:VCALENDAR