BEGIN:VCALENDAR
VERSION:2.0
CALSCALE:GREGORIAN
PRODID:-//WordPress//RSVPMaker//EN
METHOD:REQUEST
BEGIN:VEVENT
DTSTAMP:20260423T174102Z
UID:14BFA6BB14875E45BBA028A21ED38046@rsvpmaker.com
SEQUENCE:0
STATUS:CONFIRMED
DTSTART:20240511T160000Z
DTEND:20240511T212500Z
LOCATION:See\: https\://troop46230.com/rsvpmaker/bainbridge-island-tro
 ll-trip-trail-adventurer/
SUMMARY:Bainbridge Island Troll Trip (Trail Adventurer)
DESCRIPTION:Event info\: https\://troop46230.com/rsvpmaker/bainbridge-
 island-troll-trip-trail-adventurer/
END:VEVENT
END:VCALENDAR