BEGIN:VCALENDAR
VERSION:2.0
CALSCALE:GREGORIAN
PRODID:-//WordPress//RSVPMaker//EN
METHOD:REQUEST
BEGIN:VEVENT
DTSTAMP:20260423T191628Z
UID:6F3EF77AC0E3619E98159E9B6FEBF557@rsvpmaker.com
SEQUENCE:0
STATUS:CONFIRMED
DTSTART:20240914T220000Z
DTEND:20240915T003000Z
LOCATION:See\: https\://troop46230.com/rsvpmaker/bridging-ceremony-cel
 ebration-potluck/
SUMMARY:Bridging Ceremony &amp; Celebration Potluck
DESCRIPTION:Event info\: https\://troop46230.com/rsvpmaker/bridging-ce
 remony-celebration-potluck/
END:VEVENT
END:VCALENDAR