BEGIN:VCALENDAR
VERSION:2.0
CALSCALE:GREGORIAN
PRODID:-//WordPress//RSVPMaker//EN
METHOD:REQUEST
BEGIN:VEVENT
DTSTAMP:20260423T160405Z
UID:88FEE0421317424E4469F33A48F50CB0@rsvpmaker.com
SEQUENCE:0
STATUS:CONFIRMED
DTSTART:20260119T210000Z
DTEND:20260120T000000Z
LOCATION:See\: https\://troop46230.com/rsvpmaker/browie-quest-journey-
 take-action-project-planting-trees/
SUMMARY:Browie Quest Journey Take Action Project: Planting Trees
DESCRIPTION:Event info\: https\://troop46230.com/rsvpmaker/browie-ques
 t-journey-take-action-project-planting-trees/
END:VEVENT
END:VCALENDAR