BEGIN:VCALENDAR
VERSION:2.0
CALSCALE:GREGORIAN
PRODID:-//WordPress//RSVPMaker//EN
METHOD:REQUEST
BEGIN:VEVENT
DTSTAMP:20260423T191603Z
UID:6CDD60EA0045EB7A6EC44C54D29ED402@rsvpmaker.com
SEQUENCE:0
STATUS:CONFIRMED
DTSTART:20240726T200000Z
DTEND:20240726T230000Z
LOCATION:See\: https\://troop46230.com/rsvpmaker/brownie-camping-at-ri
 ver-ranch/
SUMMARY:Brownie Camping at River Ranch
DESCRIPTION:Event info\: https\://troop46230.com/rsvpmaker/brownie-cam
 ping-at-river-ranch/
END:VEVENT
END:VCALENDAR