BEGIN:VCALENDAR
VERSION:2.0
CALSCALE:GREGORIAN
PRODID:-//WordPress//RSVPMaker//EN
METHOD:REQUEST
BEGIN:VEVENT
DTSTAMP:20260423T174009Z
UID:7CE3284B743AEFDE80FFD9AEC500E085@rsvpmaker.com
SEQUENCE:0
STATUS:CONFIRMED
DTSTART:20250828T190000Z
DTEND:20250828T200000Z
LOCATION:See\: https\://troop46230.com/rsvpmaker/camp-smore-at-river-r
 anch-cookie-reward/
SUMMARY:Camp S'more at River Ranch (Cookie Reward)
DESCRIPTION:Event info\: https\://troop46230.com/rsvpmaker/camp-smore-
 at-river-ranch-cookie-reward/
END:VEVENT
END:VCALENDAR