BEGIN:VCALENDAR
VERSION:2.0
CALSCALE:GREGORIAN
PRODID:-//WordPress//RSVPMaker//EN
METHOD:REQUEST
BEGIN:VEVENT
DTSTAMP:20260423T160211Z
UID:36AC8E558AC7690B6F44E2CB5EF93322@rsvpmaker.com
SEQUENCE:0
STATUS:CONFIRMED
DTSTART:20250822T010000Z
DTEND:20250822T020000Z
LOCATION:See\: https\://troop46230.com/rsvpmaker/canoe-maybe-kayak-adv
 enture/
SUMMARY:Canoe (maybe kayak) Adventure
DESCRIPTION:Event info\: https\://troop46230.com/rsvpmaker/canoe-maybe
 -kayak-adventure/
END:VEVENT
END:VCALENDAR