BEGIN:VCALENDAR
VERSION:2.0
CALSCALE:GREGORIAN
PRODID:-//WordPress//RSVPMaker//EN
METHOD:REQUEST
BEGIN:VEVENT
DTSTAMP:20260423T173907Z
UID:38AF86134B65D0F10FE33D30DD76442E@rsvpmaker.com
SEQUENCE:0
STATUS:CONFIRMED
DTSTART:20240714T170000Z
DTEND:20240714T200000Z
LOCATION:See\: https\://troop46230.com/rsvpmaker/carkeek-park-trail-hi
 ke/
SUMMARY:Carkeek Park Trail Hike
DESCRIPTION:Event info\: https\://troop46230.com/rsvpmaker/carkeek-par
 k-trail-hike/
END:VEVENT
END:VCALENDAR