BEGIN:VCALENDAR
VERSION:2.0
CALSCALE:GREGORIAN
PRODID:-//WordPress//RSVPMaker//EN
METHOD:REQUEST
BEGIN:VEVENT
DTSTAMP:20260423T191545Z
UID:EAE27D77CA20DB309E056E3D2DCD7D69@rsvpmaker.com
SEQUENCE:0
STATUS:CONFIRMED
DTSTART:20240824T163000Z
DTEND:20240824T203000Z
LOCATION:See\: https\://troop46230.com/rsvpmaker/cherry-creek-falls-hi
 ke/
SUMMARY:Cherry Creek Falls Hike
DESCRIPTION:Event info\: https\://troop46230.com/rsvpmaker/cherry-cree
 k-falls-hike/
END:VEVENT
END:VCALENDAR