BEGIN:VCALENDAR
VERSION:2.0
CALSCALE:GREGORIAN
PRODID:-//WordPress//RSVPMaker//EN
METHOD:REQUEST
BEGIN:VEVENT
DTSTAMP:20260423T155724Z
UID:65F2A94C8C2D56D5B43A1A3D9D811102@rsvpmaker.com
SEQUENCE:0
STATUS:CONFIRMED
DTSTART:20260414T224500Z
DTEND:20260414T234500Z
LOCATION:See\: https\://troop46230.com/rsvpmaker/cookie-donations-drop
 -off-at-hunger-intervention-program/
SUMMARY:Cookie Donations Drop off at Hunger Intervention Program
DESCRIPTION:Event info\: https\://troop46230.com/rsvpmaker/cookie-dona
 tions-drop-off-at-hunger-intervention-program/
END:VEVENT
END:VCALENDAR