BEGIN:VCALENDAR
VERSION:2.0
CALSCALE:GREGORIAN
PRODID:-//WordPress//RSVPMaker//EN
METHOD:REQUEST
BEGIN:VEVENT
DTSTAMP:20260423T160019Z
UID:2DBF21633F03AFCF882EAF10E4B5CACA@rsvpmaker.com
SEQUENCE:0
STATUS:CONFIRMED
DTSTART:20260110T160000Z
DTEND:20260110T170000Z
LOCATION:See\: https\://troop46230.com/rsvpmaker/cookie-rally/
SUMMARY:Cookie Rally
DESCRIPTION:Event info\: https\://troop46230.com/rsvpmaker/cookie-rall
 y/
END:VEVENT
END:VCALENDAR