BEGIN:VCALENDAR
VERSION:2.0
CALSCALE:GREGORIAN
PRODID:-//WordPress//RSVPMaker//EN
METHOD:REQUEST
BEGIN:VEVENT
DTSTAMP:20260423T190827Z
UID:AD61AB143223EFBC24C7D2583BE69251@rsvpmaker.com
SEQUENCE:0
STATUS:CONFIRMED
DTSTART:20240511T160000Z
DTEND:20240511T214500Z
LOCATION:See\: https\://troop46230.com/rsvpmaker/cookie-sail-a-bration
 /
SUMMARY:Cookie Sail-a-bration
DESCRIPTION:Event info\: https\://troop46230.com/rsvpmaker/cookie-sail
 -a-bration/
END:VEVENT
END:VCALENDAR