BEGIN:VCALENDAR
VERSION:2.0
CALSCALE:GREGORIAN
PRODID:-//WordPress//RSVPMaker//EN
METHOD:REQUEST
BEGIN:VEVENT
DTSTAMP:20260423T173852Z
UID:E5A4D6BF330F23A8707BB0D6001DFBE8@rsvpmaker.com
SEQUENCE:0
STATUS:CONFIRMED
DTSTART:20250724T010000Z
DTEND:20250724T020000Z
LOCATION:See\: https\://troop46230.com/rsvpmaker/craft-fest-gummy-bear
 s/
SUMMARY:Craft Fest (Gummy Bears)
DESCRIPTION:Event info\: https\://troop46230.com/rsvpmaker/craft-fest-
 gummy-bears/
END:VEVENT
END:VCALENDAR