BEGIN:VCALENDAR
VERSION:2.0
CALSCALE:GREGORIAN
PRODID:-//WordPress//RSVPMaker//EN
METHOD:REQUEST
BEGIN:VEVENT
DTSTAMP:20260423T191300Z
UID:006F52E9102A8D3BE2FE5614F42BA989@rsvpmaker.com
SEQUENCE:0
STATUS:CONFIRMED
DTSTART:20240629T230000Z
DTEND:20240630T000000Z
LOCATION:See\: https\://troop46230.com/rsvpmaker/daisy-backyard-campin
 g/
SUMMARY:Daisy Backyard Camping
DESCRIPTION:Event info\: https\://troop46230.com/rsvpmaker/daisy-backy
 ard-camping/
END:VEVENT
END:VCALENDAR