BEGIN:VCALENDAR
VERSION:2.0
CALSCALE:GREGORIAN
PRODID:-//WordPress//RSVPMaker//EN
METHOD:REQUEST
BEGIN:VEVENT
DTSTAMP:20260423T173852Z
UID:73278A4A86960EEB576A8FD4C9EC6997@rsvpmaker.com
SEQUENCE:0
STATUS:CONFIRMED
DTSTART:20240531T213000Z
DTEND:20240531T223000Z
LOCATION:See\: https\://troop46230.com/rsvpmaker/encamporee-at-robbins
 wold/
SUMMARY:Encamporee at Robbinswold!
DESCRIPTION:Event info\: https\://troop46230.com/rsvpmaker/encamporee-
 at-robbinswold/
END:VEVENT
END:VCALENDAR