BEGIN:VCALENDAR
VERSION:2.0
CALSCALE:GREGORIAN
PRODID:-//WordPress//RSVPMaker//EN
METHOD:REQUEST
BEGIN:VEVENT
DTSTAMP:20260423T123939Z
UID:0415740EAA4D9DECBC8DA001D3FD805F@rsvpmaker.com
SEQUENCE:0
STATUS:CONFIRMED
DTSTART:20260502T220000Z
DTEND:20260503T003000Z
LOCATION:See\: https\://troop46230.com/rsvpmaker/fearless-cute-cats-co
 okie-celebration-trampoline-party/
SUMMARY:Fearless Cute Cats Cookie Celebration Trampoline Party!
DESCRIPTION:Event info\: https\://troop46230.com/rsvpmaker/fearless-cu
 te-cats-cookie-celebration-trampoline-party/
END:VEVENT
END:VCALENDAR