BEGIN:VCALENDAR
VERSION:2.0
CALSCALE:GREGORIAN
PRODID:-//WordPress//RSVPMaker//EN
METHOD:REQUEST
BEGIN:VEVENT
DTSTAMP:20260423T160954Z
UID:FC6709BFDF0572F183C1A84CE5276E96@rsvpmaker.com
SEQUENCE:0
STATUS:CONFIRMED
DTSTART:20250627T010000Z
DTEND:20250627T080000Z
LOCATION:See\: https\://troop46230.com/rsvpmaker/fearless-cute-cats-pa
 rk-meet-up-hamlin-park/
SUMMARY:Fearless Cute Cats Park Meet-up @ Hamlin Park
DESCRIPTION:Event info\: https\://troop46230.com/rsvpmaker/fearless-cu
 te-cats-park-meet-up-hamlin-park/
END:VEVENT
END:VCALENDAR