BEGIN:VCALENDAR
VERSION:2.0
CALSCALE:GREGORIAN
PRODID:-//WordPress//RSVPMaker//EN
METHOD:REQUEST
BEGIN:VEVENT
DTSTAMP:20260423T160703Z
UID:4FA53BE91B4933D536748A60458B9797@rsvpmaker.com
SEQUENCE:0
STATUS:CONFIRMED
DTSTART:20250801T010000Z
DTEND:20250801T020000Z
LOCATION:See\: https\://troop46230.com/rsvpmaker/fearless-cute-cats-pa
 rk-meetup-northacres-park/
SUMMARY:Fearless Cute Cats Park Meetup @ NorthAcres Park
DESCRIPTION:Event info\: https\://troop46230.com/rsvpmaker/fearless-cu
 te-cats-park-meetup-northacres-park/
END:VEVENT
END:VCALENDAR