BEGIN:VCALENDAR
VERSION:2.0
CALSCALE:GREGORIAN
PRODID:-//WordPress//RSVPMaker//EN
METHOD:REQUEST
BEGIN:VEVENT
DTSTAMP:20260423T124656Z
UID:D790C9E6C0B5E02C87B375E782AC01BC@rsvpmaker.com
SEQUENCE:0
STATUS:CONFIRMED
DTSTART:20260614T160000Z
DTEND:20260614T210000Z
LOCATION:See\: https\://troop46230.com/rsvpmaker/fearless-cute-cats-se
 rvice-project-at-heartwood-haven-sanctuary/
SUMMARY:Fearless Cute Cats Service Project at Heartwood Haven Sanctuar
 y
DESCRIPTION:Event info\: https\://troop46230.com/rsvpmaker/fearless-cu
 te-cats-service-project-at-heartwood-haven-sanctuary/
END:VEVENT
END:VCALENDAR