BEGIN:VCALENDAR
VERSION:2.0
CALSCALE:GREGORIAN
PRODID:-//WordPress//RSVPMaker//EN
METHOD:REQUEST
BEGIN:VEVENT
DTSTAMP:20260423T174215Z
UID:310CE61C90F3A46E340EE8257BC70E93@rsvpmaker.com
SEQUENCE:0
STATUS:CONFIRMED
DTSTART:20250608T154500Z
DTEND:20250608T164500Z
LOCATION:See\: https\://troop46230.com/rsvpmaker/fearless-cute-cats-se
 rvice-project-trip-to-heartwood-haven-sanctuary/
SUMMARY:Fearless Cute Cats Service Project Trip to Heartwood Haven San
 ctuary
DESCRIPTION:Event info\: https\://troop46230.com/rsvpmaker/fearless-cu
 te-cats-service-project-trip-to-heartwood-haven-sanctuary/
END:VEVENT
END:VCALENDAR