BEGIN:VCALENDAR
VERSION:2.0
CALSCALE:GREGORIAN
PRODID:-//WordPress//RSVPMaker//EN
METHOD:REQUEST
BEGIN:VEVENT
DTSTAMP:20260423T174103Z
UID:F15EDA31A2DA646EEA513B0F81A5414D@rsvpmaker.com
SEQUENCE:0
STATUS:CONFIRMED
DTSTART:20260314T233000Z
DTEND:20260315T180000Z
LOCATION:See\: https\://troop46230.com/rsvpmaker/fearless-cute-cats-sl
 eepover-slumber-party/
SUMMARY:Fearless Cute Cats Sleepover Slumber Party!
DESCRIPTION:Event info\: https\://troop46230.com/rsvpmaker/fearless-cu
 te-cats-sleepover-slumber-party/
END:VEVENT
END:VCALENDAR