BEGIN:VCALENDAR
VERSION:2.0
CALSCALE:GREGORIAN
PRODID:-//WordPress//RSVPMaker//EN
METHOD:REQUEST
BEGIN:VEVENT
DTSTAMP:20260423T191730Z
UID:7EF605FC8DBA5425D6965FBD4C8FBE1F@rsvpmaker.com
SEQUENCE:0
STATUS:CONFIRMED
DTSTART:20240602T201000Z
DTEND:20240602T211000Z
LOCATION:See\: https\://troop46230.com/rsvpmaker/girl-scout-mariners-d
 ay/
SUMMARY:Girl Scout Mariners Day
DESCRIPTION:Event info\: https\://troop46230.com/rsvpmaker/girl-scout-
 mariners-day/
END:VEVENT
END:VCALENDAR