BEGIN:VCALENDAR
VERSION:2.0
CALSCALE:GREGORIAN
PRODID:-//WordPress//RSVPMaker//EN
METHOD:REQUEST
BEGIN:VEVENT
DTSTAMP:20260423T123939Z
UID:C315F0320B7CD4EC85756FAC52D78076@rsvpmaker.com
SEQUENCE:0
STATUS:CONFIRMED
DTSTART:20260718T020000Z
DTEND:20260718T030000Z
LOCATION:See\: https\://troop46230.com/rsvpmaker/gummy-bear-cookie-rew
 ard-flying-horseshoe-ranch/
SUMMARY:Gummy Bear Cookie Reward @ Flying Horseshoe Ranch
DESCRIPTION:Event info\: https\://troop46230.com/rsvpmaker/gummy-bear-
 cookie-reward-flying-horseshoe-ranch/
END:VEVENT
END:VCALENDAR