BEGIN:VCALENDAR
VERSION:2.0
CALSCALE:GREGORIAN
PRODID:-//WordPress//RSVPMaker//EN
METHOD:REQUEST
BEGIN:VEVENT
DTSTAMP:20260423T160106Z
UID:9D28DE8FF9BB6A3FA41FDDFDC28F3BC1@rsvpmaker.com
SEQUENCE:0
STATUS:CONFIRMED
DTSTART:20260420T020000Z
DTEND:20260420T030000Z
LOCATION:See\: https\://troop46230.com/rsvpmaker/junior-skills-2/
SUMMARY:Junior Skills
DESCRIPTION:Event info\: https\://troop46230.com/rsvpmaker/junior-skil
 ls-2/
END:VEVENT
END:VCALENDAR