BEGIN:VCALENDAR
VERSION:2.0
CALSCALE:GREGORIAN
PRODID:-//WordPress//RSVPMaker//EN
METHOD:REQUEST
BEGIN:VEVENT
DTSTAMP:20260423T191302Z
UID:C0F168CE8900FA56E57789E2A2F2C9D0@rsvpmaker.com
SEQUENCE:0
STATUS:CONFIRMED
DTSTART:20250502T230000Z
DTEND:20250503T000000Z
LOCATION:See\: https\://troop46230.com/rsvpmaker/junior-skills/
SUMMARY:Junior Skills
DESCRIPTION:Event info\: https\://troop46230.com/rsvpmaker/junior-skil
 ls/
END:VEVENT
END:VCALENDAR