BEGIN:VCALENDAR
VERSION:2.0
CALSCALE:GREGORIAN
PRODID:-//WordPress//RSVPMaker//EN
METHOD:REQUEST
BEGIN:VEVENT
DTSTAMP:20260423T205152Z
UID:A2557A7B2E94197FF767970B67041697@rsvpmaker.com
SEQUENCE:0
STATUS:CONFIRMED
DTSTART:20240801T234500Z
DTEND:20240802T011500Z
LOCATION:See\: https\://troop46230.com/rsvpmaker/meeting-at-hamlin-par
 k-2/
SUMMARY:Meeting at Hamlin Park
DESCRIPTION:Event info\: https\://troop46230.com/rsvpmaker/meeting-at-
 hamlin-park-2/
END:VEVENT
END:VCALENDAR