BEGIN:VCALENDAR
VERSION:2.0
CALSCALE:GREGORIAN
PRODID:-//WordPress//RSVPMaker//EN
METHOD:REQUEST
BEGIN:VEVENT
DTSTAMP:20260423T191604Z
UID:8F53295A73878494E9BC8DD6C3C7104F@rsvpmaker.com
SEQUENCE:0
STATUS:CONFIRMED
DTSTART:20240718T234500Z
DTEND:20240719T011500Z
LOCATION:See\: https\://troop46230.com/rsvpmaker/meeting-at-hamlin-par
 k/
SUMMARY:Meeting at Hamlin Park
DESCRIPTION:Event info\: https\://troop46230.com/rsvpmaker/meeting-at-
 hamlin-park/
END:VEVENT
END:VCALENDAR