BEGIN:VCALENDAR
VERSION:2.0
CALSCALE:GREGORIAN
PRODID:-//WordPress//RSVPMaker//EN
METHOD:REQUEST
BEGIN:VEVENT
DTSTAMP:20260423T191736Z
UID:58A2FC6ED39FD083F55D4182BF88826D@rsvpmaker.com
SEQUENCE:0
STATUS:CONFIRMED
DTSTART:20240829T233000Z
DTEND:20240830T020000Z
LOCATION:See\: https\://troop46230.com/rsvpmaker/meeting-at-twin-ponds
 -park/
SUMMARY:Meeting at Twin Ponds Park
DESCRIPTION:Event info\: https\://troop46230.com/rsvpmaker/meeting-at-
 twin-ponds-park/
END:VEVENT
END:VCALENDAR