BEGIN:VCALENDAR
VERSION:2.0
CALSCALE:GREGORIAN
PRODID:-//WordPress//RSVPMaker//EN
METHOD:REQUEST
BEGIN:VEVENT
DTSTAMP:20260423T173953Z
UID:BD4C9AB730F5513206B999EC0D90D1FB@rsvpmaker.com
SEQUENCE:0
STATUS:CONFIRMED
DTSTART:20240627T234500Z
DTEND:20240628T011500Z
LOCATION:See\: https\://troop46230.com/rsvpmaker/meeting-at-virgil-fla
 im-park/
SUMMARY:Meeting at Hamlin Park
DESCRIPTION:Event info\: https\://troop46230.com/rsvpmaker/meeting-at-
 virgil-flaim-park/
END:VEVENT
END:VCALENDAR