BEGIN:VCALENDAR
VERSION:2.0
CALSCALE:GREGORIAN
PRODID:-//WordPress//RSVPMaker//EN
METHOD:REQUEST
BEGIN:VEVENT
DTSTAMP:20260423T191603Z
UID:A89CF525E1D9F04D16CE31165E139A4B@rsvpmaker.com
SEQUENCE:0
STATUS:CONFIRMED
DTSTART:20250412T210000Z
DTEND:20250412T220000Z
LOCATION:See\: https\://troop46230.com/rsvpmaker/north-helpline-cookie
 -donation/
SUMMARY:North Helpline Cookie Donation
DESCRIPTION:Event info\: https\://troop46230.com/rsvpmaker/north-helpl
 ine-cookie-donation/
END:VEVENT
END:VCALENDAR