BEGIN:VCALENDAR
VERSION:2.0
CALSCALE:GREGORIAN
PRODID:-//WordPress//RSVPMaker//EN
METHOD:REQUEST
BEGIN:VEVENT
DTSTAMP:20260423T160541Z
UID:DC5D637ED5E62C36ECB73B654B05BA2A@rsvpmaker.com
SEQUENCE:0
STATUS:CONFIRMED
DTSTART:20250801T010000Z
DTEND:20250801T020000Z
LOCATION:See\: https\://troop46230.com/rsvpmaker/outdoor-art-twin-pond
 s-park-gummy-bears/
SUMMARY:Outdoor Art @ Twin Ponds Park (Gummy Bears)
DESCRIPTION:Event info\: https\://troop46230.com/rsvpmaker/outdoor-art
 -twin-ponds-park-gummy-bears/
END:VEVENT
END:VCALENDAR