BEGIN:VCALENDAR
VERSION:2.0
CALSCALE:GREGORIAN
PRODID:-//WordPress//RSVPMaker//EN
METHOD:REQUEST
BEGIN:VEVENT
DTSTAMP:20260423T191953Z
UID:1385974ED5904A438616FF7BDB3F7439@rsvpmaker.com
SEQUENCE:0
STATUS:CONFIRMED
DTSTART:20240526T174500Z
DTEND:20240526T193000Z
LOCATION:See\: https\://troop46230.com/rsvpmaker/paint-the-town-u-vill
 age-pottery-painting-badge/
SUMMARY:Paint the Town (U Village) - Pottery Painting Badge
DESCRIPTION:Event info\: https\://troop46230.com/rsvpmaker/paint-the-t
 own-u-village-pottery-painting-badge/
END:VEVENT
END:VCALENDAR