BEGIN:VCALENDAR
VERSION:2.0
CALSCALE:GREGORIAN
PRODID:-//WordPress//RSVPMaker//EN
METHOD:REQUEST
BEGIN:VEVENT
DTSTAMP:20260423T123733Z
UID:403EA2E851B9AB04A996BEAB4A480A30@rsvpmaker.com
SEQUENCE:0
STATUS:CONFIRMED
DTSTART:20260524T220000Z
DTEND:20260525T020000Z
LOCATION:See\: https\://troop46230.com/rsvpmaker/seattle-storm-game/
SUMMARY:Seattle Storm Game!
DESCRIPTION:Event info\: https\://troop46230.com/rsvpmaker/seattle-sto
 rm-game/
END:VEVENT
END:VCALENDAR