BEGIN:VCALENDAR
VERSION:2.0
CALSCALE:GREGORIAN
PRODID:-//WordPress//RSVPMaker//EN
METHOD:REQUEST
BEGIN:VEVENT
DTSTAMP:20260423T174038Z
UID:26657D5FF9020D2ABEFE558796B99584@rsvpmaker.com
SEQUENCE:0
STATUS:CONFIRMED
DTSTART:20240519T170000Z
DTEND:20240519T190000Z
LOCATION:See\: https\://troop46230.com/rsvpmaker/service-project-donat
 e-to-an-animal-shelter/
SUMMARY:Service Project - Donate to an Animal Shelter
DESCRIPTION:Event info\: https\://troop46230.com/rsvpmaker/service-pro
 ject-donate-to-an-animal-shelter/
END:VEVENT
END:VCALENDAR