BEGIN:VCALENDAR
VERSION:2.0
CALSCALE:GREGORIAN
PRODID:-//WordPress//RSVPMaker//EN
METHOD:REQUEST
BEGIN:VEVENT
DTSTAMP:20260423T173606Z
UID:E6CB2A3C14431B55AA50C06529EAA21B@rsvpmaker.com
SEQUENCE:0
STATUS:CONFIRMED
DTSTART:20251017T210000Z
DTEND:20251017T220000Z
LOCATION:See\: https\://troop46230.com/rsvpmaker/skillettes-2/
SUMMARY:Skillettes
DESCRIPTION:Event info\: https\://troop46230.com/rsvpmaker/skillettes-
 2/
END:VEVENT
END:VCALENDAR