BEGIN:VCALENDAR
VERSION:2.0
CALSCALE:GREGORIAN
PRODID:-//WordPress//RSVPMaker//EN
METHOD:REQUEST
BEGIN:VEVENT
DTSTAMP:20260423T191302Z
UID:115F89503138416A242F40FB7D7F338E@rsvpmaker.com
SEQUENCE:0
STATUS:CONFIRMED
DTSTART:20241101T210000Z
DTEND:20241101T220000Z
LOCATION:See\: https\://troop46230.com/rsvpmaker/skillettes/
SUMMARY:Skillettes
DESCRIPTION:Event info\: https\://troop46230.com/rsvpmaker/skillettes/
END:VEVENT
END:VCALENDAR